BEGIN:VCALENDAR
PRODID:-//eluceo/ical//2.0/EN
VERSION:2.0
CALSCALE:GREGORIAN
BEGIN:VEVENT
UID:4ca813041f28042b063d3118326590e1
DTSTAMP:20260424T134149Z
SUMMARY:Offen für Besucher*innen
DESCRIPTION:Das Liebesleben Museum in Soest ist ein einzigartiger Ort\, der
  sich der Aufklärung und dem Dialog über Liebe\, Sexualität\, Gesundhei
 t und mehr widmet. In einem alten Hochbunker werden vielfältige Themen wi
 e Verhütung\, Pubertät\, Geschlechter\, Schwangerschaft und Geburt auf w
 issenschaftliche\, kulturelle und emotionale Weise behandelt. Die Ausstell
 ungen sind interaktiv gestaltet\, sodass Besucher ihr Wissen spielerisch t
 esten und Neues entdecken können. Von der spannenden Geschichte von Beate
  Uhse bis zu aktuellen Diskussionen über Vorurteile und Toleranz bietet d
 as Museum eine breite Palette an Themen. Es gibt auch Räume für Seminare
  und Veranstaltungen\, was es zu einem lebendigen Ort des Lernens und der 
 Gemeinschaft macht.
DTSTART:20260429T150000
DTEND:20260429T180000
LOCATION:Liebesleben Museum\, Lütgen Grandweg 9a\, 59494 Soest\, 
END:VEVENT
BEGIN:VTIMEZONE
TZID:Europe/Berlin
BEGIN:DAYLIGHT
DTSTART:20260429T150000
TZNAME:CEST
TZOFFSETTO:+0200
TZOFFSETFROM:+0200
END:DAYLIGHT
END:VTIMEZONE
END:VCALENDAR
