BEGIN:VCALENDAR
PRODID:-//eluceo/ical//2.0/EN
VERSION:2.0
CALSCALE:GREGORIAN
BEGIN:VEVENT
UID:27d4b5e2a3571d6a43204a17b7104d7b
DTSTAMP:20260425T025141Z
SUMMARY:Yoga Präventions-Kurse
DESCRIPTION:Der Yoga-Kurs findet 10 Wochen hintereinander statt. <br />\nDe
 r Einstieg in jederzeit möglich.<br />\nOffene -Yoga-Stunden ( 18\,50€ 
 ) ebenfalls möglich.<br />\nDie Kurs-Gebühr wird ganz oder teilweise von
  den Krankenkassen erstattet.
DTSTART:20300318T193000
DTEND:20300318T210000
LOCATION:St.Walburga Kindergarten\, Friedhofsgasse 1\, 595497 Werl\, 
END:VEVENT
BEGIN:VTIMEZONE
TZID:Europe/Berlin
BEGIN:STANDARD
DTSTART:20300318T193000
TZNAME:CET
TZOFFSETTO:+0100
TZOFFSETFROM:+0100
END:STANDARD
END:VTIMEZONE
END:VCALENDAR
