BEGIN:VCALENDAR
PRODID:-//eluceo/ical//2.0/EN
VERSION:2.0
CALSCALE:GREGORIAN
BEGIN:VEVENT
UID:35a4075713a405f41ccc6a81791f0271
DTSTAMP:20260424T153606Z
SUMMARY:Yoga Präventions-Kurse
DESCRIPTION:Der Yoga-Kurs findet 10 Wochen hintereinander statt. <br />\nDe
 r Einstieg in jederzeit möglich.<br />\nOffene -Yoga-Stunden ( 18\,50€ 
 ) ebenfalls möglich.<br />\nDie Kurs-Gebühr wird ganz oder teilweise von
  den Krankenkassen erstattet.
DTSTART:20300218T193000
DTEND:20300218T210000
LOCATION:St.Walburga Kindergarten\, Friedhofsgasse 1\, 595497 Werl\, 
END:VEVENT
BEGIN:VTIMEZONE
TZID:Europe/Berlin
BEGIN:STANDARD
DTSTART:20300218T193000
TZNAME:CET
TZOFFSETTO:+0100
TZOFFSETFROM:+0100
END:STANDARD
END:VTIMEZONE
END:VCALENDAR
