BEGIN:VCALENDAR
PRODID:-//eluceo/ical//2.0/EN
VERSION:2.0
CALSCALE:GREGORIAN
BEGIN:VEVENT
UID:6c96f663d9d64b5ad2d844a46dbe33bc
DTSTAMP:20260424T160443Z
SUMMARY:Yoga Präventions-Kurse
DESCRIPTION:Der Yoga-Kurs findet 10 Wochen hintereinander statt. <br />\nDe
 r Einstieg in jederzeit möglich.<br />\nOffene -Yoga-Stunden ( 18\,50€ 
 ) ebenfalls möglich.<br />\nDie Kurs-Gebühr wird ganz oder teilweise von
  den Krankenkassen erstattet.
DTSTART:20260706T193000
DTEND:20260706T210000
LOCATION:St.Walburga Kindergarten\, Friedhofsgasse 1\, 595497 Werl\, 
END:VEVENT
BEGIN:VTIMEZONE
TZID:Europe/Berlin
BEGIN:DAYLIGHT
DTSTART:20260706T193000
TZNAME:CEST
TZOFFSETTO:+0200
TZOFFSETFROM:+0200
END:DAYLIGHT
END:VTIMEZONE
END:VCALENDAR
