BEGIN:VCALENDAR
PRODID:-//eluceo/ical//2.0/EN
VERSION:2.0
CALSCALE:GREGORIAN
BEGIN:VEVENT
UID:f34be6772a2bad6df41f1aebdb28361f
DTSTAMP:20260424T160436Z
SUMMARY:Yoga in Soest mit YogaRosa
DESCRIPTION:Der Yoga-Kurs findet 10 Wochen hintereinander statt und kann an
 schließend fortlaufend besucht werden.\nDer Einstieg in jederzeit möglic
 h.\nOffene -Yoga-Stunden ( 18\,50€ ) ebenfalls möglich.\nDie Kurs-Gebü
 hr wird ganz oder teilweise von den Krankenkassen zurück erstattet.\n\nAn
 meldung gerne Telefonisch oder über WhatAp 0160 96 75 40 03\nWeitere Info
 s: www.yoga-Rosa.de
DTSTART:20341221T203000
DTEND:20341221T220000
LOCATION:Familienzentrum Bunte Welt\, Ober der Kluse 1\, 59519 Möhnesee\, 
END:VEVENT
BEGIN:VTIMEZONE
TZID:Europe/Berlin
BEGIN:STANDARD
DTSTART:20341221T203000
TZNAME:CET
TZOFFSETTO:+0100
TZOFFSETFROM:+0100
END:STANDARD
END:VTIMEZONE
END:VCALENDAR
