BEGIN:VCALENDAR
PRODID:-//eluceo/ical//2.0/EN
VERSION:2.0
CALSCALE:GREGORIAN
BEGIN:VEVENT
UID:41f8c796a772d7a25fde102ad05395f7
DTSTAMP:20260424T153601Z
SUMMARY:Yoga in Soest mit YogaRosa
DESCRIPTION:Der Yoga-Kurs findet 10 Wochen hintereinander statt und kann an
 schließend fortlaufend besucht werden.\nDer Einstieg in jederzeit möglic
 h.\nOffene -Yoga-Stunden ( 18\,50€ ) ebenfalls möglich.\nDie Kurs-Gebü
 hr wird ganz oder teilweise von den Krankenkassen zurück erstattet.\n\nAn
 meldung gerne Telefonisch oder über WhatAp 0160 96 75 40 03\nWeitere Info
 s: www.yoga-Rosa.de
DTSTART:20340921T203000
DTEND:20340921T220000
LOCATION:Familienzentrum Bunte Welt\, Ober der Kluse 1\, 59519 Möhnesee\, 
END:VEVENT
BEGIN:VTIMEZONE
TZID:Europe/Berlin
BEGIN:DAYLIGHT
DTSTART:20340921T203000
TZNAME:CEST
TZOFFSETTO:+0200
TZOFFSETFROM:+0200
END:DAYLIGHT
END:VTIMEZONE
END:VCALENDAR
