BEGIN:VCALENDAR
PRODID:-//eluceo/ical//2.0/EN
VERSION:2.0
CALSCALE:GREGORIAN
BEGIN:VEVENT
UID:3927ae228ea5c4e1814c32cce34b60ae
DTSTAMP:20260424T153556Z
SUMMARY:Yoga in Soest mit YogaRosa
DESCRIPTION:Der Yoga-Kurs findet 10 Wochen hintereinander statt und kann an
 schließend fortlaufend besucht werden.\nDer Einstieg in jederzeit möglic
 h.\nOffene -Yoga-Stunden ( 18\,50€ ) ebenfalls möglich.\nDie Kurs-Gebü
 hr wird ganz oder teilweise von den Krankenkassen zurück erstattet.\n\nAn
 meldung gerne Telefonisch oder über WhatAp 0160 96 75 40 03\nWeitere Info
 s: www.yoga-Rosa.de
DTSTART:20340831T203000
DTEND:20340831T220000
LOCATION:Familienzentrum Bunte Welt\, Ober der Kluse 1\, 59519 Möhnesee\, 
END:VEVENT
BEGIN:VTIMEZONE
TZID:Europe/Berlin
BEGIN:DAYLIGHT
DTSTART:20340831T203000
TZNAME:CEST
TZOFFSETTO:+0200
TZOFFSETFROM:+0200
END:DAYLIGHT
END:VTIMEZONE
END:VCALENDAR
