BEGIN:VCALENDAR
PRODID:-//eluceo/ical//2.0/EN
VERSION:2.0
CALSCALE:GREGORIAN
BEGIN:VEVENT
UID:2a1a069ba7abfbd598a2e0bc8f84df7c
DTSTAMP:20260424T153520Z
SUMMARY:Yoga in Soest mit YogaRosa
DESCRIPTION:Der Yoga-Kurs findet 10 Wochen hintereinander statt und kann an
 schließend fortlaufend besucht werden.\nDer Einstieg in jederzeit möglic
 h.\nOffene -Yoga-Stunden ( 16\,50€ ) ebenfalls möglich.\nDie Kurs-Gebü
 hr wird ganz oder teilweise von den Krankenkassen zurück erstattet.\n\nAn
 meldung gerne Telefonisch oder über WhatAp 0160 96 75 40 03\n\nYoga wirkt
 !\n\nWenn Sie Yoga praktizieren\, werden Sie sehr schnell die Wirkungen de
 s Yoga erfahren: Sie erlangen Entspannung\, Rücken- und Kopfschmerzen wer
 den gelindert\, Schulter- und Muskelverspannu ngen werden gelöst. Sie sp
 üren mehr Energie und fühlen sich vitaler. Ihr Immunsystem ist gestärkt
  und Ihr Konzentrationsvermögen verbessert sich.\n\nYoga schafft einen po
 sitiven Ausgleich zu den heutigen Anforderungen des Alltags. Es wirkt ausg
 leichend\, gesundend und beruhigend auf Körper\, Geist und Seele. Mit Yog
 a kann jederzeit begonnen werden Die Übungen sind für jeden leicht erler
 nbar. \nWeitere Infos & Dienstleistungen von YogaRosa im Gesundpraktischem
  Bereich.       \n\nhttps://www.yoga-rosa.de/Start/
DTSTART:20341011T203000
DTEND:20341011T220000
LOCATION:Familienzentrum Bunte Welt\, Kaiser-Otto-Weg 13\, 59494 Soest\, 
END:VEVENT
BEGIN:VTIMEZONE
TZID:Europe/Berlin
BEGIN:DAYLIGHT
DTSTART:20341011T203000
TZNAME:CEST
TZOFFSETTO:+0200
TZOFFSETFROM:+0200
END:DAYLIGHT
END:VTIMEZONE
END:VCALENDAR
