BEGIN:VCALENDAR
PRODID:-//eluceo/ical//2.0/EN
VERSION:2.0
CALSCALE:GREGORIAN
BEGIN:VEVENT
UID:ed7b2a28512b53e08b27837975045504
DTSTAMP:20260425T042525Z
SUMMARY:Frühsommertrödel 2026 - Flohmarkt
DESCRIPTION:Mit rund 200 Ständern privater Beschicker in der Halle und im 
 Außengelände.\n\nDie großen Flohmärkte rund um die Stadthalle sind üb
 eraus beliebt bei den zahlreichen Besuchern und privaten Beschickern der R
 egion. \n\nDie Ausstellungsflächen befinden sich in der Stadthalle\, im R
 ondell und im Park.\n\nAngebot von A – Z\nAuf einem Flohmarkt wie diesem
  wechseln alle nur möglichen Dinge des Alltags sowie auch manche Rarität
 en den Besitzer: Das Sortiment geht von Geschirr und Technik über Spielze
 ug und Kleidung zu Sammlerstücken und Kuriositäten! Dazu bietet er den g
 roßen Vorteil\, die Ware direkt zu begutachten und bei Gefallen sofort mi
 tzunehmen – im Gegensatz zu diversen Internetbörsen.\n\nHier treffen si
 ch wirklich alle: Egal ob Schüler\, Azubi oder Student\, Familie oder Sin
 gle\, Rentner oder Berufstätige\, kleiner oder großer Geldbeutel!\n\nÖf
 fnungszeiten:\nDas beliebte Stöbern\, Feilschen\, Kungeln und Handeln fin
 det in der Zeit von 11 – 17 Uhr statt. In dieser Zeit ist natürlich auc
 h für das leibliche Wohl bestens gesorgt.\n\nTeilnahmebedingungen für Au
 ssteller:\nZugelassen sind ausschließlich private Anbieter.\nDer Handel m
 it Neuware\, Getränken\, Lebensmitteln sowie Waffen ist ausdrücklich unt
 ersagt.\nEine Rückgabe des Standtickets ist nicht möglich.\nDas Befahren
  des Geländes mit Autos ist grundsätzlich untersagt – bitte nutzen Sie
  die angrenzenden kostenlosen Parkflächen an der Stadthalle.\nDen Anweisu
 ngen unserer Ordner ist Folge zu leisten.\nDer Flohmarkt findet bei jedem 
 Wetter statt.\nTische müssen mitgebracht werden\, optimal ist ein Tapezie
 rtisch.\nStandgebühr für eine Standfläche\, 3 Meter Front\, 2-3 Meter T
 iefe:\nIm Außengelände: 25\,00 €\nIn der Stadthalle: 40\,00 €\nzzgl.
  Müllpfand in Höhe von 5\,00 €\n\nDen Müllpfand erstatten wir Ihnen g
 egen Vorlage des Standtickets ausschließlich in der Zeit von 16 – 18 Uh
 r des Flohmarkttages\, sofern Sie Ihren Standplatz aufgeräumt und müllfr
 ei hinterlassen.\n\nAufbauen können Sie ihren Stand bereits ab 8:00 Uhr u
 nd bis 18:00 sollte ihr Stand geräumt sein.
DTSTART:20260607T110000
DTEND:20260607T170000
LOCATION:Stadthalle Soest\, Dasselwall 1\, 59494 Soest\, 
END:VEVENT
BEGIN:VTIMEZONE
TZID:Europe/Berlin
BEGIN:DAYLIGHT
DTSTART:20260607T110000
TZNAME:CEST
TZOFFSETTO:+0200
TZOFFSETFROM:+0200
END:DAYLIGHT
END:VTIMEZONE
END:VCALENDAR
