BEGIN:VCALENDAR
PRODID:-//eluceo/ical//2.0/EN
VERSION:2.0
CALSCALE:GREGORIAN
BEGIN:VEVENT
UID:92d630fa3a4dc0fa0f13ef744b087212
DTSTAMP:20260425T014827Z
SUMMARY:Frau Höpker bittet zum Gesang
DESCRIPTION:Das Mitsingkonzert.\n\nWer Katrin Höpkers Mitsingkonzert kennt
 \, der weiß: es kann süchtig machen! Denn die Künstlerin stellt ihre Pr
 ogramme Abend für Abend individuell zusammen und begeistert seit über 10
  Jahren Hobbysängerinnen und -sänger auf unnachahmliche Art und Weise.\n
 \nOb Popsong\, Schlager\, Volkslied\, Evergreen oder eines ihrer beliebten
  Medleys – jede Veranstaltung hat ihre eigene Note. Die Texte werden auf
  eine große Leinwand projiziert und das gemeinsame Singen wird zum unverg
 esslichen Erlebnis. Frau Höpker ist Vollblut-Musikerin und Vollblut-Enter
 tainerin\, und das muss man erlebt haben! Charmant und liebevoll nimmt sie
  ihr Publikum bei der Hand\, greift Stimmungen auf\, begeistert mit Mutter
 witz und lässt so im Verlauf des Abends einen stimmgewaltigen Chor entste
 hen. Ein Streifzug\, bei dem jeder „musikalisch satt wird“!\n\nSoest k
 ann sich also schon jetzt wieder freuen auf 2 Stunden fröhliches Singen\,
  Fingerschnippen\, Fußwippen\, Lachen\, in Erinnerungen schwelgen - und d
 as generationsübergreifend.\n\nWichtig zu wissen: \n\nFrau Höpker bittet
  zum Gesang ist eine Stehveranstaltung. Für Senioren und Menschen mit Han
 dicap werden am Abend Sitzplätze bereit gestellt (bitte unbedingt zum Ein
 lassbeginn vor Ort sein). Sitzplatzreservierungen vorab sind nicht möglic
 h.\n\nErfüllt von Musik... von Anfang an\n\nKatrin Höpker wuchs mit vier
  Schwestern in einem von Musik geprägten Pfarrhaushalt auf: gemeinsames M
 usizieren und mehrstimmiges Singen stand auf der Tagesordnung! Mit drei Ja
 hren besuchte sie die Musikschule\, mit fünf begann sie\, Klavier zu spie
 len und wen wundert’s: sie konnte Noten früher lesen als Buchstaben...\
 n\n„Wenn irgendwo ein Klavier stand\, saß ich dran“\, so Katrin Höpk
 er. Doch nicht nur Czerny und Bach fesselten sie: früh war sie fasziniert
  von den Popsongs\, die sie im Radio hörte\, spielte diese Stunde um Stun
 de nach\, perfektionierte ihr musikalisches Gedächtnis\, suchte ihren eig
 enen\, unverwechselbaren Stil.\n\nEs folgten Bandprojekte\, der 1. Platz b
 ei „Jugend jazzt“\, ein Lehramtstudium Musik\, unzählige Studio- und 
 CD Produktionen für Stars wie Heino\, Stefan Raab\, die WDR Bigband...die
  Tour-Begleitung von Udo Jürgens und und und...\n\nBis kam\, was schon zu
  Beginn vorgezeichnet war: Katrin Höpker erfand mit „Frau Höpker bitte
 t zum Gesang“ ein völlig neues und einmaliges Mitsing-Format. Darin ste
 ckt ihr ganzes Können\, ihre Leidenschaft für Musik und für das gemeins
 ame Singerlebnis. Das spürt ihr Publikum\, und dafür wird sie geliebt!\n
 \nErsatztermin für die zunächst am 25. Oktober 2025 geplante Veranstaltu
 ng. Die Tickets behalten ihre Gültigkeit für den neuen Termin Fr. 27. Fe
 bruar 2026.
DTSTART:20260227T200000
DTEND:20260227T230000
LOCATION:Stadthalle Soest\, Dasselwall 1\, 59494 Soest\, 
END:VEVENT
BEGIN:VTIMEZONE
TZID:Europe/Berlin
BEGIN:STANDARD
DTSTART:20260227T200000
TZNAME:CET
TZOFFSETTO:+0100
TZOFFSETFROM:+0100
END:STANDARD
END:VTIMEZONE
END:VCALENDAR
