BEGIN:VCALENDAR
PRODID:-//eluceo/ical//2.0/EN
VERSION:2.0
CALSCALE:GREGORIAN
BEGIN:VEVENT
UID:9dac69e878c9c457abf584dab9db538d
DTSTAMP:20260424T160435Z
SUMMARY:Impro- Inklusionstheater
DESCRIPTION:Wir sind eine Theatergruppe bestehend aus den unterschiedlichst
 en Menschen\, die Spaß am Theaterspielen haben. Unsere Gruppe gibt es sch
 on seit 2017 und wir haben immer wieder neue Ideen für Stücke\, Themen o
 der eine mögliche Zielgruppe. Aber unser Hauptaugenmerk liegt auf der Zie
 lgruppe Kinder ab 6 Jahren. Aktuell arbeiten wir an einem Stück\, welches
  voraussichtlich am 06.04. aufgeführt wird.
DTSTART:20260501T190000
DTEND:20260501T210000
LOCATION:KulturQuartier - Spiegelraum\, Ulrichertor 4\, 59494 Soest\, 
END:VEVENT
BEGIN:VTIMEZONE
TZID:Europe/Berlin
BEGIN:DAYLIGHT
DTSTART:20260501T190000
TZNAME:CEST
TZOFFSETTO:+0200
TZOFFSETFROM:+0200
END:DAYLIGHT
END:VTIMEZONE
END:VCALENDAR
