BEGIN:VCALENDAR
PRODID:-//eluceo/ical//2.0/EN
VERSION:2.0
CALSCALE:GREGORIAN
BEGIN:VEVENT
UID:420f0925cc791d558cb563df452e6531
DTSTAMP:20260424T180551Z
SUMMARY:Impro- Inklusionstheater
DESCRIPTION:Wir sind eine Theatergruppe bestehend aus den unterschiedlichst
 en Menschen\, die Spaß am Theaterspielen haben. Unsere Gruppe gibt es sch
 on seit 2017 und wir haben immer wieder neue Ideen für Stücke\, Themen o
 der eine mögliche Zielgruppe. Aber unser Hauptaugenmerk liegt auf der Zie
 lgruppe Kinder ab 6 Jahren. Aktuell arbeiten wir an einem Stück\, welches
  voraussichtlich am 06.04. aufgeführt wird.
DTSTART:20260327T190000
DTEND:20260327T210000
LOCATION:KulturQuartier - Spiegelraum\, Ulrichertor 4\, 59494 Soest\, 
END:VEVENT
BEGIN:VTIMEZONE
TZID:Europe/Berlin
BEGIN:STANDARD
DTSTART:20260327T190000
TZNAME:CET
TZOFFSETTO:+0100
TZOFFSETFROM:+0100
END:STANDARD
END:VTIMEZONE
END:VCALENDAR
