BEGIN:VCALENDAR
PRODID:-//eluceo/ical//2.0/EN
VERSION:2.0
CALSCALE:GREGORIAN
BEGIN:VEVENT
UID:8d321139ffe2382f632fd77ebae9acd6
DTSTAMP:20260424T213005Z
SUMMARY:Dr. Mark Benecke
DESCRIPTION:Er ist Deutschlands berühmtester Kriminalbiologie – die Rede
  ist natürlich von Dr. Mark Benecke. Mit Tattoos und Piercings übersät\
 , begeistert der „Herr der Maden“ mit seiner Arbeit\, die er mit einma
 liger Faszination ausübt. Sein Wissen und seine mysteriösesten Fälle gi
 bt er gerne an sein wissbegieriges Publikum weiter und sorgt stets für mi
 treißende Vorträge.\n\nIn Soest präsentiert er mit "Die Mafia in New Yo
 rk" ein ganz besonderes Programm:\n\nMark spannt einen Bogen von den schwa
 rzweißen Anfängen der Mafia in New York über die Prohibitionszeit bis h
 in zur modernen organisierten Kriminalität. Mit Videos von Verbrechenssch
 auplätzen und Morden berühmter Gangster. Besonders spannend: Der Tag\, a
 n dem die New Yorker Mafia einem berühmten Politiker ein Angebot machte\,
  das dieser nicht ablehnen konnte... bis in Italien eine Straße und ein H
 aus in die Luft flogen.\n\nMark berichtet von seiner Reise durch New York\
 , Little Italy\, der Heimat der fünf italienischen Mafia-Familien\, von M
 afia Morden und den heutigen kriminalistischen Erfahrungen zu organisierte
 r Kriminalität. Außerdem: Banden in Mexiko und Ströme von Alkohol.\n\nM
 ark Benecke wurde 1970 in Rosenheim geboren. An der Uni Köln widmete er s
 ich der Biologie\, Zoologie sowie Psychologie und schloss sein Studium mit
  einer Promotion am Institut für Rechtsmedizin ab. Danach folgten viele A
 usbildungen auf der ganzen Welt\, unter anderem beim US-amerikanischen FBI
 . Als öffentlich bestellter und vereidigter Sachverständiger für krimin
 altechnische Spuren konnte er schon viele Straftäter überführen und ist
  immer wieder an spektakulären Fällen beteiligt.
DTSTART:20260221T200000
DTEND:20260221T230000
LOCATION:Stadthalle Soest\, Dasselwall 1\, 59494 Soest\, 
END:VEVENT
BEGIN:VTIMEZONE
TZID:Europe/Berlin
BEGIN:STANDARD
DTSTART:20260221T200000
TZNAME:CET
TZOFFSETTO:+0100
TZOFFSETFROM:+0100
END:STANDARD
END:VTIMEZONE
END:VCALENDAR
