BEGIN:VCALENDAR
PRODID:-//eluceo/ical//2.0/EN
VERSION:2.0
CALSCALE:GREGORIAN
BEGIN:VEVENT
UID:d3888c87345d6fba3db550c4f41e33af
DTSTAMP:20260425T014753Z
SUMMARY:Winterstrahlen
DESCRIPTION:Das Soester Winterstrahlen geht in die fünfte Runde: Vom 13. b
 is 22. Februar 2026 präsentiert sich die alte Hansestadt Soest mit der Ve
 ranstaltung „Winterstrahlen“ erneut von einer ganz besonders sehenswer
 ten Seite. \n\nZehn Tage lang kann man dann an verschiedenen Orten die Sta
 dt in anderem Licht entdecken. Die Vorgängerjahre waren ein voller Erfolg
  und haben gezeigt\, was man mit Beleuchtung so alles anstellen kann. Auch
  die Neuauflage im Jahr 2026 wird sich wieder "im besten Licht" zeigen.\n\
 nVeranstalter: Wirtschaft und Marketing Soest GmbH\n\nWeitere Infos auf ht
 tps://www.so-ist-soest.de/de/veranstaltungen/winter/winterstrahlen.php
DTSTART:20260218T173000
DTEND:20260218T220000
LOCATION:Innenstadt Soest\, 59494 Soest\, 
END:VEVENT
BEGIN:VTIMEZONE
TZID:Europe/Berlin
BEGIN:STANDARD
DTSTART:20260218T173000
TZNAME:CET
TZOFFSETTO:+0100
TZOFFSETFROM:+0100
END:STANDARD
END:VTIMEZONE
END:VCALENDAR
