BEGIN:VCALENDAR
PRODID:-//eluceo/ical//2.0/EN
VERSION:2.0
CALSCALE:GREGORIAN
BEGIN:VEVENT
UID:6d78007eaef5dd67db2ef51a6b7c4c41
DTSTAMP:20260425T025124Z
SUMMARY:Soester Kneipenfestival
DESCRIPTION:Die bekannte Neigung der Westfalen zu üppigem Essen und Trinke
 n\, ausschweifenden Festen und geselligen Runden führte zu einer Kneipend
 ichte innerhalb des historischen Soester Stadtwalls\, die noch heute jedem
  Vergleich standhält. Heute wie damals sind diese Gaststätten Treffpunkt
  des kulturellen Lebens. Davon können sich Tausende von Besuchern überze
 ugen\, wenn im März das 22. Soester Kneipenfestival in zahlreichen Kneipe
 n\, Cafés und Gasthöfen mit noch zahlreicheren Live-Bands startet. Eine 
 besondere musikalische Draufgabe und äußerst beliebt ist zudem der Musik
 -Express\, ein Bus mit Live-Musik an Bord. Dieser verkehrt den ganzen Aben
 d zwischen den einzelnen Kneipen sorgt zusätzlich für eine Super-Stimmun
 g auf der stets ausverkauften Veranstaltung.\n\nMehr Infos rund um das Soe
 ster Kneipenfestival gibt es unter: www.soester-kneipenfestival.de
DTSTART:20260307T190000
DTEND:20260307T220000
LOCATION:Innenstadt Soest\, 59494 Soest\, 
END:VEVENT
BEGIN:VTIMEZONE
TZID:Europe/Berlin
BEGIN:STANDARD
DTSTART:20260307T190000
TZNAME:CET
TZOFFSETTO:+0100
TZOFFSETFROM:+0100
END:STANDARD
END:VTIMEZONE
END:VCALENDAR
