BEGIN:VCALENDAR
PRODID:-//eluceo/ical//2.0/EN
VERSION:2.0
CALSCALE:GREGORIAN
BEGIN:VEVENT
UID:b142b898e7043a62e778912794c4dd58
DTSTAMP:20260425T014247Z
SUMMARY:abgesagt - Fools Garden - Dish of the Day-Tour 2026
DESCRIPTION:Liebe Fools Garden Freunde\, liebe Menschen aus und um Soest\, 
 \n  \nschweren Herzens müssen wir das geplante Konzert von Fools Garden a
 m 14.02.2026 in der Soester Stadthalle im Rahmen der DISH OF THE DAY Tour 
 absagen. Wir hätten uns sehr darauf gefreut\, nach Soest zu kommen und ge
 meinsam mit euch einen besonderen Abend zu feiern. Leider wurden bislang z
 u wenige Tickets verkauft. \n  \nUnd so ehrlich müssen wir sein: Veransta
 lter\, Produktion und auch wir als Band tragen Verantwortung und müssen b
 ei aller Leidenschaft auch wirtschaftlich denken. So ist es natürlich ver
 ständlich\, dass uns der Veranstalter bittet diese Show nicht durchzufüh
 ren. Der Bitte kommen wir natürlich nach. Am Ende haben wir alle Familien
  und Verpflichtungen. Ihr wisst schon. \n  \nEs tut uns sowohl für euch a
 ls auch für den Veranstalter in Soest sehr leid. Sicherlich spielt auch d
 er Karnevalssamstag eine Rolle\, das nahe Sauerland ist ja auch eine Karne
 valsregion. Einfach mal Augen auf bei der Terminwahl. Wie auch immer: Es i
 st keine leichte Entscheidung\, aber am Ende eben auch „nur“ eine Konz
 ertabsage. \n  \nTicket-Rückgabe: Bereits gekaufte Tickets werden an den 
 Vorverkaufsstellen erstattet\, bei denen sie gekauft wurden. \n  \nUnd jet
 zt: liebe Soester\, vielleicht haben wir einen Plan B für euch. Einen Tag
  vorher\, am 13.02.2026\, spielen wir im Kulttempel Oberhausen. \n  \nGeme
 insam mit dem Veranstalter Pluswelt Promotion haben wir uns überlegt\, eu
 ch das Benzingeld von Soest nach Oberhausen ein Stück weit zu sponsern: \
 nGegen Vorlage eines Kaufnachweises eures Soester Tickets (Scan\, Foto etc
 .) zahlt ihr an der Abendkasse in Oberhausen statt 40 € nur 25 €. \nAm
  Ende sind es ja „nur“ 95 km über die A2. \n  \nVielleicht sehen wir 
 ja den einen oder anderen von euch\, der dem Sauerländer Karneval entflie
 hen möchte \,wir würden uns sehr freuen. \n  \nDamit wir das an der Aben
 dkasse in Oberhausen gut vorbereiten können\, schreibt uns bitte kurz ein
 e Mail\, sobald ihr wisst\, dass ihr kommt: \nmalte@inconcert.de \n  \nBis
  hoffentlich ganz bald und danke für euer Verständnis und euren Support.
  \n  \nEure \nFools Garden & Team
DTSTART:20260214T200000
DTEND:20260214T230000
LOCATION:Stadthalle Soest\, Dasselwall 1\, 59494 Soest\, 
END:VEVENT
BEGIN:VTIMEZONE
TZID:Europe/Berlin
BEGIN:STANDARD
DTSTART:20260214T200000
TZNAME:CET
TZOFFSETTO:+0100
TZOFFSETFROM:+0100
END:STANDARD
END:VTIMEZONE
END:VCALENDAR
