BEGIN:VCALENDAR
PRODID:-//eluceo/ical//2.0/EN
VERSION:2.0
CALSCALE:GREGORIAN
BEGIN:VEVENT
UID:b08e1956c922aa86a258f93e2cc18586
DTSTAMP:20260425T014907Z
SUMMARY:Lara Ermer - Leicht Entflammbar
DESCRIPTION:Leicht entflammbar\nWir alle verstehen die Welt nicht mehr–al
 so hat Lara Ermer mal nachgelesen. Miterfrischender Klarheit widmet sie si
 ch den wichtigen Fragen unserer Zeit\, ohne sich daran die Finger zu verbr
 ennen. Warum zur Hölle werden wir in gesellschaftlichen Diskussionen so v
 erschissen schnell ausfallend? Wenn ich auf jeden Fall rechthabe–was has
 t dann du? \n\nHinter ihrem Programm stehen wasserfeste Recherchen\, die T
 iefen des Internets und ein abgeschlossenes Psychologiestudium. Fundierter
  wird Comedy nicht. Bei ihrem wachen Blick auf unsere Gesellschaft trägt 
 Lara Ermer ganz sicher keine rosarote Brille. Sie beschönigt nichts\, hat
  stattdessen immer wieder verdammt unterhaltsame Perspektiven parat. Mut z
 ur Heftigkeit! So bewegt sie sich mit Schärfe und Selbstbewusstsein auf d
 em schmalen Grat zwischen Aktivismus und Apokalypse. Wenn die Welt schon b
 rennt\, ist das doch ein prima Moment\, um alles aufzuwirbeln. So stellt d
 ie Comedienne humorvoll vermeintliche Selbstverständlichkeiten und einger
 ostete Ansichten in Frage. Um es mit Laras Worten zu sagen: Wenn du’s ma
 chen willst wie der Neandertaler\, ist das völlig okay. Nur sei bitte kon
 sequent: stirb aus.\n\nLara Ermer (Autorin\, Moderatorin und Comedienne) s
 teht seit ihrer Jugend auf der Bühne. Ihr Stil verbindet Humor mit gesell
 schaftlichen Themen\, die sie auf Basis von Fakten und Studien unterhaltsa
 m aufbereitet. Bekannt wurde sie unter anderem durch ihr erstes Buch Ein o
 ffenes Buch (2021) und ihren erfolgreichen Social-Media-Clip zum Thema Dic
 kpics“ mit Bodo Wartke (2024). Aktuell tourt sie mit ihrem zweiten Solop
 rogramm Leicht entflammbar und ist regelmäßig in verschiedenen Medienfor
 maten präsent. Für ihre Arbeit wurde sie 2024 mit dem Deutschen Kabarett
 förderpreis ausgezeichnet. Ihr neues Buch Alle gegen Alle erscheint im M
 ärz 2025.
DTSTART:20260205T200000
DTEND:20260205T230000
LOCATION:Kulturhaus Alter Schlachthof Soest\, Ulrichertor 4\, 59494 Soest\,
  
END:VEVENT
BEGIN:VTIMEZONE
TZID:Europe/Berlin
BEGIN:STANDARD
DTSTART:20260205T200000
TZNAME:CET
TZOFFSETTO:+0100
TZOFFSETFROM:+0100
END:STANDARD
END:VTIMEZONE
END:VCALENDAR
