BEGIN:VCALENDAR
PRODID:-//eluceo/ical//2.0/EN
VERSION:2.0
CALSCALE:GREGORIAN
BEGIN:VEVENT
UID:597dc710e3a10becaa6100c2d790492a
DTSTAMP:20260425T014746Z
SUMMARY:Altstadtfrühling
DESCRIPTION:Bereits zum 19. Mal präsentiert die Wirtschaft und Marketing S
 oest GmbH den »Soester Altstadtfrühling«. An beiden Veranstaltungstagen
  präsentieren zahlreiche Aussteller von 11:00 bis 18:00 Uhr ihre Angebote
  in der Soester Altstadt – mit den Schwerpunkten „Zukunft bewegen“ u
 nd „Frühlingsmarkt“. Am verkaufsoffenen Sonntag kann zudem von 13:00 
 bis 18:00 Uhr nach Herzenslust geshoppt werden.\n\nWeitere Informationen z
 ur Veranstaltung finden Sie unter www.so-ist-soest.de
DTSTART:20260510T110000
DTEND:20260510T180000
LOCATION:Innenstadt Soest\, 59494 Soest\, 
END:VEVENT
BEGIN:VTIMEZONE
TZID:Europe/Berlin
BEGIN:DAYLIGHT
DTSTART:20260510T110000
TZNAME:CEST
TZOFFSETTO:+0200
TZOFFSETFROM:+0200
END:DAYLIGHT
END:VTIMEZONE
END:VCALENDAR
