BEGIN:VCALENDAR
PRODID:-//eluceo/ical//2.0/EN
VERSION:2.0
CALSCALE:GREGORIAN
BEGIN:VEVENT
UID:34d6cd1b52b2fc31a049a2d1e5dc38a3
DTSTAMP:20260424T212955Z
SUMMARY:Verkaufsoffener Sonntag
DESCRIPTION:Verkaufsoffener Sonntag im Rahmen des Soester Altstadtfrühling
 s
DTSTART:20260510T130000
DTEND:20260510T180000
LOCATION:Innenstadt Soest\, 59494 Soest\, 
END:VEVENT
BEGIN:VTIMEZONE
TZID:Europe/Berlin
BEGIN:DAYLIGHT
DTSTART:20260510T130000
TZNAME:CEST
TZOFFSETTO:+0200
TZOFFSETFROM:+0200
END:DAYLIGHT
END:VTIMEZONE
END:VCALENDAR
