BEGIN:VCALENDAR
PRODID:-//eluceo/ical//2.0/EN
VERSION:2.0
CALSCALE:GREGORIAN
BEGIN:VEVENT
UID:9f9af440bd59b006b00c25ae499ced38
DTSTAMP:20260425T024949Z
SUMMARY:ROXXTER zum 22. Soester Kneipenfestival
DESCRIPTION:Im Kleinen Saal der Stadthalle gibt es zum Kneipenfestival Rock
 musik vom Feinsten. \n\nDie Herren von ROXXTER haben schon so einiges auf 
 dem Rock-Kerbholz. So waren die Musiker der Band\, jeder für sich in ihre
 m Leben\, an vielen LPs und CDs beteiligt und haben Konzerte in Europa und
  natürlich ihrem Heimatland Deutschland gespielt. \n\nSupports für Bands
  wie Thin Lizzy\, Status Quo\, Eagles oder Uriah Heep stehen auf der lange
 n Liste der Gigs. Egal\, ob in Hallen\, Kneipen\, bei Bikertreffen oder Ge
 burtstagen - ROXXTER rockt das Haus\, sie sind immer noch fit für den ech
 ten Rock´n´Roll.\n\nROXXTER ist eine Rockcoverband aus Münster und spie
 lt seit Jahren nur die großen Hits der Rock-Giganten. \n\nMan sagt der Ba
 nd nach\, man merke ihr nicht an\, dass sie covern. Die schweißtreibenden
  Konzerte sind eine umfassende Zeitreise\, die niemals aufhört und das Pu
 blikum wird bei jedem Konzert in ihre Jugend zurückversetzt. Apropos Juge
 nd. Auch auf Studentenpartys geht mächtig die Post ab\, weil man auch dor
 t die großen Klassiker in- und auswendig kennt. Rock´n´Roll kennt eben 
 kein Alter\, so schließt sich der Kreis und ROXXTER gibt dem Zitat von Br
 ian Molko "Rockstars sterben entweder jung\, oder sie altern sehr\, sehr l
 angsam“ seine Bedeutung. \n\n„Die Wahrheit liegt auf dem Platz“\, sa
 gte mal ein sehr berühmter Fußballtrainer. Bei ROXXTER liegt die Wahrhei
 t auf der Bühne. Studio kann jeder\, aber Menschen begeistern\, ist eine 
 ganz andere Hausnummer. \n\nLong live Rock´n´Roll
DTSTART:20260307T200000
DTEND:20260307T230000
LOCATION:Stadthalle Soest\, Dasselwall 1\, 59494 Soest\, 
END:VEVENT
BEGIN:VTIMEZONE
TZID:Europe/Berlin
BEGIN:STANDARD
DTSTART:20260307T200000
TZNAME:CET
TZOFFSETTO:+0100
TZOFFSETFROM:+0100
END:STANDARD
END:VTIMEZONE
END:VCALENDAR
