BEGIN:VCALENDAR
PRODID:-//eluceo/ical//2.0/EN
VERSION:2.0
CALSCALE:GREGORIAN
BEGIN:VEVENT
UID:af880670e83623b69ddb22d4f173e786
DTSTAMP:20260424T135254Z
SUMMARY:NightWash – Das Sing Ding
DESCRIPTION:Das lustigste Mit-Sing-Konzert aller Zeiten!\n\nOb Textsicher o
 der Duschsänger – jeder ist willkommen\, wenn die lustigste Karaoke-Par
 ty des Jahres steigt.\n\nNightWash steht seit 25 Jahren für beste Stand-U
 p-Comedy und hat unzählige Comedy-Stars auf die Bühne gebracht. Jetzt ko
 mmt ein brandneues Show-Format aus der deutschlandweit bekanntesten Comedy
 schmiede\, dass das Publikum nicht nur zum Lachen\, sondern auch zum Mitsi
 ngen bringt: „NightWash – Das Sing Ding“!\n\nUnsere NightWash Artist
 s können nicht nur wahnsinnig lustig sein\, sondern auch singen! Bei Nigh
 tWash - Das Sing Ding präsentieren zwei Hosts die größten Hits der 90er
  & 2000er – von Backstreet Boys über Britney bis hin zu den Ärzten. Hi
 er wird nicht nur performt\, sondern gemeinsam mit dem Publikum gesungen\,
  geschunkelt und gefeiert!\n\n"NightWash – Das Sing Ding" verbindet die 
 Kult-Comedy-Show mit einem einzigartigen Mit-Sing-Erlebnis. \n\nEs wird la
 ut\, lustig und legendär! Also: Stimme ölen\, Kehle freiräumen und bere
 itmachen für eine Show\, die sich gewaschen hat!
DTSTART:20260425T200000
DTEND:20260425T230000
LOCATION:Stadthalle Soest\, Dasselwall 1\, 59494 Soest\, 
END:VEVENT
BEGIN:VTIMEZONE
TZID:Europe/Berlin
BEGIN:DAYLIGHT
DTSTART:20260425T200000
TZNAME:CEST
TZOFFSETTO:+0200
TZOFFSETFROM:+0200
END:DAYLIGHT
END:VTIMEZONE
END:VCALENDAR
