BEGIN:VCALENDAR
PRODID:-//eluceo/ical//2.0/EN
VERSION:2.0
CALSCALE:GREGORIAN
BEGIN:VEVENT
UID:45d7cae9fbcaf22e4e617a5650bb4033
DTSTAMP:20260425T025150Z
SUMMARY:abgesagt - Beyond The Music - The orchestral Sound of U2
DESCRIPTION:Offizielle Konzert Absage U2 Classic von Beyond the Music\nSoes
 t\, Stadthalle 18.03.2026\n\nDas geplante Konzert von Beyond the Music / U
 2 Classic in der Stadthalle\, Soest am 18. März 2026 wird leider nicht st
 attfinden.\n\nWir bedauern dies sehr\, uns als Tourneeveranstalter ist es 
 zusammen mit der Band nicht gelungen ausreichend Tickets zu verkaufen\, di
 e es in irgendeiner Form ermöglichen diese Veranstaltung zu finanzieren. 
 \n\nBei einer Durchführung würde der Band aber auch uns als Tourneeveran
 stalter massive Verluste drohen.\n\nWir müssen daher mit großer Enttäus
 chung diese hochwertige Produktion bzw. Veranstaltung absagen.\n\nDie bere
 its gekauften Tickets werden selbstverständlich erstattet an den Vorverka
 ufsstellen\, an denen sie erworben wurden.\n\nWir möchten uns bei allen T
 icketkäufern\, die im Vorverkauf ein Ticket erworben haben\, bedanken. Si
 e haben durch ihren Kauf im Vorverkauf dazu beigetragen\, dass dieses auß
 ergewöhnliche Konzert hätte stattfinden können. Leider konnten wir nich
 t genügend Käufer im Vorverkauf überzeugen\, damit ist das finanzielle 
 Risiko für die Band und für uns als Tourneeveranstalter nicht mehr kalku
 lierbar.\n\nWir bedauern es sehr\, gerade diese Käufer zu enttäuschen un
 d möchten uns hierfür entschuldigen. Bitte unterstützen sie weiterhin K
 ultur und Künstler im Vorverkauf\, um hier eine Tragfähigkeit zu erreich
 en.\nBeyond the Music und auch wir als Tourneeveranstalter werden uns bem
 ühen\, weiterhin diese außergewöhnlichen Konzerte anzubieten und hoffen
  alle Käufer aus dem Vorverkauf eventuell bei anderer Gelegenheit begrü
 ßen zu dürfen.\n\nHamburg\, 22.01.2026\nHypertension-Music-Entertainment
  GmbH
DTSTART:20260318T200000
DTEND:20260318T230000
LOCATION:Stadthalle Soest\, Dasselwall 1\, 59494 Soest\, 
END:VEVENT
BEGIN:VTIMEZONE
TZID:Europe/Berlin
BEGIN:STANDARD
DTSTART:20260318T200000
TZNAME:CET
TZOFFSETTO:+0100
TZOFFSETFROM:+0100
END:STANDARD
END:VTIMEZONE
END:VCALENDAR
