BEGIN:VCALENDAR
PRODID:-//eluceo/ical//2.0/EN
VERSION:2.0
CALSCALE:GREGORIAN
BEGIN:VEVENT
UID:c3b22bbec835df3c325f05323512c144
DTSTAMP:20260425T025147Z
SUMMARY:Johannes Flöck
DESCRIPTION:Schöner Schonen - Humor für Hektikverweigerer\nIn einer sich 
 ständig\, schneller veränderten Welt wollen wir doch im Alltag stabil bl
 eiben. Und dass natürlich ohne uns zu stressen - denn stress macht dumm (
 oder: stress - stresst nur!) Genau da setzt die Leichtigkeit von Johannes 
 Flöck\, in seinem neuen Comedy-Programm \,\,Schöner schonen" an.\n\nMit 
 seiner unnachahmlichen\, sympathischen Art und seiner anmutigen Mischung a
 us Anekdote und Reflexion nimmt er uns mit auf alltägliche\, selbst (üb)
 erlebte Abenteuer die am Ende nur eins zulassen - lachende und glückliche
  Zuschauer. Ob im Urlaub oder in der Beziehung\, bei der Ernährung oder d
 em Sport - immer wieder findet Johannes Flöck Lösungsansätze die uns da
 s Leben einfacher machen können und das mit Leichtigkeit.\n\,\,Lang lebe 
 das Alter" proklamiert Flöck als bekennender Hektikverweigerer und gibt h
 ilfreiche Tipps gespickt mit jede Menge Humor und Selbstironie - so bleibe
 n auch Sie ganz leicht (mit Leichtigkeit) Jung und Flöckisch...denn so Fl
 öck: Nichts macht jünger als die Verschwendung an Dinge die Lustvoll sin
 d.
DTSTART:20260306T200000
DTEND:20260306T230000
LOCATION:Kulturhaus Alter Schlachthof Soest\, Ulrichertor 4\, 59494 Soest\,
  
END:VEVENT
BEGIN:VTIMEZONE
TZID:Europe/Berlin
BEGIN:STANDARD
DTSTART:20260306T200000
TZNAME:CET
TZOFFSETTO:+0100
TZOFFSETFROM:+0100
END:STANDARD
END:VTIMEZONE
END:VCALENDAR
