BEGIN:VCALENDAR
PRODID:-//eluceo/ical//2.0/EN
VERSION:2.0
CALSCALE:GREGORIAN
BEGIN:VEVENT
UID:5f1f99bea0ad629a844d80c3245c0b1e
DTSTAMP:20260424T160441Z
SUMMARY:Antrödeln 2026 - Flohmarkt
DESCRIPTION:Mit rund 200 Ständen privater Beschicker in der Halle und im A
 ußengelände!\n\nDie großen Flohmärkte rund um die Stadthalle sind übe
 raus beliebt bei den zahlreichen Besuchern und privaten Beschickern der Re
 gion. \n\nDie Ausstellungsflächen befinden sich in der Stadthalle\, im Ro
 ndell und im Park.\n\nAngebot von A – Z\nAuf einem Flohmarkt wie diesem 
 wechseln alle nur möglichen Dinge des Alltags sowie auch manche Raritäte
 n den Besitzer: Das Sortiment geht von Geschirr und Technik über Spielzeu
 g und Kleidung zu Sammlerstücken und Kuriositäten! Dazu bietet er den gr
 oßen Vorteil\, die Ware direkt zu begutachten und bei Gefallen sofort mit
 zunehmen – im Gegensatz zu diversen Internetbörsen.\n\nHier treffen sic
 h wirklich alle: Egal ob Schüler\, Azubi oder Student\, Familie oder Sing
 le\, Rentner oder Berufstätige\, kleiner oder großer Geldbeutel!\n\nÖff
 nungszeiten:\nDas beliebte Stöbern\, Feilschen\, Kungeln und Handeln find
 et in der Zeit von 11 – 17 Uhr statt. In dieser Zeit ist natürlich auch
  für das leibliche Wohl bestens gesorgt.\n\nTeilnahmebedingungen für Aus
 steller:\nZugelassen sind ausschließlich private Anbieter.\nDer Handel mi
 t Neuware\, Getränken\, Lebensmitteln sowie Waffen ist ausdrücklich unte
 rsagt.\nEine Rückgabe des Standtickets ist nicht möglich.\nDas Befahren 
 des Geländes mit Autos ist grundsätzlich untersagt – bitte nutzen Sie 
 die angrenzenden kostenlosen Parkflächen an der Stadthalle.\nDen Anweisun
 gen unserer Ordner ist Folge zu leisten.\nDer Flohmarkt findet bei jedem W
 etter statt.\nTische müssen mitgebracht werden\, optimal ist ein Tapezier
 tisch.\nStandgebühr für eine Standfläche\, 3 Meter Front\, 2-3 Meter Ti
 efe:\nIm Außengelände: 25\,00 €\nIn der Stadthalle: 40\,00 €\nzzgl. 
 Müllpfand in Höhe von 5\,00 €\n\nDen Müllpfand erstatten wir Ihnen ge
 gen Vorlage des Standtickets ausschließlich in der Zeit von 16 – 18 Uhr
  des Flohmarkttages\, sofern Sie Ihren Standplatz aufgeräumt und müllfre
 i hinterlassen.\n\nAufbauen können Sie ihren Stand bereits ab 8:00 Uhr un
 d bis 18:00 sollte ihr Stand geräumt sein.
DTSTART:20260503T110000
DTEND:20260503T170000
LOCATION:Stadthalle Soest\, Dasselwall 1\, 59494 Soest\, 
END:VEVENT
BEGIN:VTIMEZONE
TZID:Europe/Berlin
BEGIN:DAYLIGHT
DTSTART:20260503T110000
TZNAME:CEST
TZOFFSETTO:+0200
TZOFFSETFROM:+0200
END:DAYLIGHT
END:VTIMEZONE
END:VCALENDAR
