BEGIN:VCALENDAR
PRODID:-//eluceo/ical//2.0/EN
VERSION:2.0
CALSCALE:GREGORIAN
BEGIN:VEVENT
UID:2d4049fc491f0409bf51a4404e6c7e83
DTSTAMP:20260425T014833Z
SUMMARY:Präsenz-Infoveranstaltung der Fachbereiche MAT und EET
DESCRIPTION:Informieren Sie sich aus erster Hand über die technischen und 
 wirtschaftlichen Studiengänge der Fachbereiche Maschinenbau-Automatisieru
 ngstechnik und Elektrische Energietechnik und lernen Sie uns bei der Veran
 staltung auf dem Campus Soest im Rahmen von Gesprächen und Führungen per
 sönlich kennen! <br />\nMehr Informationen unter https://www.fh-swf.de/de
 /ueber_uns/events_3/veranstaltungen___events/eventseiten/soest_7/praesenz_
 infoveranstaltungen_fb_mat___fb_eet.php
DTSTART:20260620T100000
DTEND:20260620T130000
LOCATION:Fachhochschule Südwestfalen\, Lübecker Ring 2\, 59494 Soest\, 
END:VEVENT
BEGIN:VTIMEZONE
TZID:Europe/Berlin
BEGIN:DAYLIGHT
DTSTART:20260620T100000
TZNAME:CEST
TZOFFSETTO:+0200
TZOFFSETFROM:+0200
END:DAYLIGHT
END:VTIMEZONE
END:VCALENDAR
