BEGIN:VCALENDAR
PRODID:-//eluceo/ical//2.0/EN
VERSION:2.0
CALSCALE:GREGORIAN
BEGIN:VEVENT
UID:7fbf0c0ab95dd46fcfce44c9d85b18bc
DTSTAMP:20260424T213010Z
SUMMARY:AXXIS „COMING HOME“ Tour 2026 AUSVERKAUFT
DESCRIPTION:Die Rocklegenden kommen zurück nach Soest\n\nWenn es eine Band
  geschafft hat\, mit positiver Energie und mitreißenden Liveshows in Verb
 indung gebracht zu werden\, dann die 1989 aus der Taufe gehobenen AXXIS. \
 nIhr 1989 veröffentlichtes Debütalbum "Kingdom of the Night" katapultier
 te sie sofort ins Rampenlicht und brachte Kritikerlob sowie eine engagiert
 e und treue Fangemeinde ein. Das inzwischen mit einem Goldalbum für 250.0
 00 verkaufte Einheiten ausgezeichnete Werk wurde zu einem der erfolgreichs
 ten Hard Rock Debüts einer deutschen Band überhaupt. Darauf enthaltene S
 ongs wie "Living in a World" und der Titeltrack wurden zu Klassikern und z
 eigten den unverwechselbaren Mix aus treibenden Rhythmen und eindrucksvoll
 en Vocals. \nAuf dem neuen Album "COMING HOME" kehrt man zu den Wurzeln zu
 rück\, ohne die Entwicklung der letzten Jahre zu vernachlässigen. Mit fr
 ischen\, eingängigen Songs wie dem Titelstück oder „Moonlight Bay“\,
  sowie von Fantasy-Texten begleiteten Songs wie „Atlantica“ oder „Le
 gends of Phantasia“\, der emotionalen Ballade „Dark Angel“ oder der 
 bandtypischen Gute-Laune-Hymne „Irish Way Of Life“ setzte die Band neu
 e Maßstäbe.
DTSTART:20260314T200000
DTEND:20260314T230000
LOCATION:Kulturhaus Alter Schlachthof Soest\, Ulrichertor 4\, 59494 Soest\,
  
END:VEVENT
BEGIN:VTIMEZONE
TZID:Europe/Berlin
BEGIN:STANDARD
DTSTART:20260314T200000
TZNAME:CET
TZOFFSETTO:+0100
TZOFFSETFROM:+0100
END:STANDARD
END:VTIMEZONE
END:VCALENDAR
