BEGIN:VCALENDAR
PRODID:-//eluceo/ical//2.0/EN
VERSION:2.0
CALSCALE:GREGORIAN
BEGIN:VEVENT
UID:92549f21548fe0daa722948fe4c9c23f
DTSTAMP:20260425T014824Z
SUMMARY:Kai Strauss & The Electric Blues All-Stars
DESCRIPTION:Kai Strauss & The Electric Blues All-Stars (GER/USA/UK)\nDie Ze
 iten\, in denen europäische Künstler einfach nordamerikanische Produktio
 nen imitiert haben\, sind längst vorbei. Ob man es nun bedauert oder nich
 t\, der Blues ist global geworden und wird von Musikern verteidigt\, die i
 hm ihre individuelle Seele geben. Der Sänger und Gitarrist Kai Strauss ge
 hört zu diesem kleinen Kreis.\n„Schon als Teenager war ich von der Magi
 e eines Buddy Guy\, Albert King oder der Vaughan Brothers infiziert.“\, 
 sagt der musikalisch in Deutschlands Blueshochburg Osnabrück aufgewachsen
 e Musiker\, der mittlerweile zusammen mit seiner international besetzten B
 and als einer der großen Namen der europäischen Szene gilt.\nVon seinem 
 professionellen Start\, als er sich 1995 mit dem in Texas\, USA\, geborene
 n Sänger Memo Gonzalez zusammentat\, bis hin zu seiner erfolgreichen Karr
 iere als Solokünstler hat sich Kai Strauss als Gitarrist und Sänger mit 
 Kraft und Originalität erwiesen. Mehrere German Blues Awards sowie Auftri
 tte auf renommierten Festivals von Europa bis in die Karibik bestätigen\,
  dass Strauss in der internationalen „Blues Champions League“ angekomm
 en ist.\n\nMit „Night Shift“ hat Kai Strauss jetzt sein siebtes Album 
 veröffentlicht\, und wieder mal gelingt es ihm\, die Blueswurzeln mit Ele
 menten seiner eigenen Art von Funk und Soul zu einem aufregenden zeitgenö
 ssischen Sound zu verweben. Als Songwriter hat er sich spürbar weiterentw
 ickelt. Seine Lieder haben an Dringlichkeit und Aktualität gewonnen und g
 reifen auch mitunter ernstere Themen auf. Obwohl Strauss eindeutig die Gra
 mmatik der alten Bluesmeister gelernt hat\, ist seine Gitarrenarbeit keine
 swegs ein „Malen-nach-Zahlen-Blues“. Mit ganz eigener Stimme vorgetrag
 en\, platziert Kai seine Gitarrenlicks energiegeladen und ausgefeilt wie e
 in südamerikanischer Elfmeterschütze. Und wenn sogar US-Bluesmogul Bruce
  Iglauer (Alligator Records) Strauss als Musiker „who has it all“ lobt
 \, weiß man\, dass sich acht Tonträger\, TV-Auftritte und unzählige Sho
 ws in über 20 Ländern ausgezahlt haben.\nDer Blues war schon immer ein s
 chwer zu eroberndes Feld\, aber Kai Strauss ist auf dem besten Weg\, genau
  das zu tun.\n \n„Kai Strauss is a sophisticated bluesman who has it all
 —he can deliver a lyric vocally\, create an interesting blues song\, and
  plays very “grown up” guitar. He is one of those guitar players who u
 nderstands what the important notes are\, and chooses to tell an emotional
  story with his solos\, rather than just filling up the songs with lots of
  unnecessary notes.“\nBruce Iglauer\, Alligator Records (Chicago/IL)\, 2
 022\n\n„Authentisch\, hochklassig und geradlinig.“ Bluesnews\, 2019\n\
 n„The times when European artists simply imitated North American product
 ions are long gone. Whether one regrets it or not\, the blues has gone glo
 bal and is defended by musicians who keep the memory of the blues alive an
 d – for the best of them – give it the extra soul that makes it specia
 l. German singer-guitarist Kai Strauss is among this elite.“\nSoul Bag (
 F)\, 2022\n\n„Kai Strauss hat den deutschen Blues in ein besseres Licht 
 gerückt.“ Andreas Arlt (BB & The Blues Shacks)\, 2020\n\n„Geschmackvo
 ller\, moderner soulig-funkiger Blues mit eigenem Stil weit abseits tradit
 ioneller 12-Takter… Das neue Album strahlt die Gelassenheit eines Musike
 rs aus\, der seinen Stil gefunden hat und niemandem mehr etwas beweisen mu
 ss.“ guitar Magazin (D)\, 2023
DTSTART:20260326T200000
DTEND:20260326T230000
LOCATION:Kulturhaus Alter Schlachthof Soest\, Ulrichertor 4\, 59494 Soest\,
  
END:VEVENT
BEGIN:VTIMEZONE
TZID:Europe/Berlin
BEGIN:STANDARD
DTSTART:20260326T200000
TZNAME:CET
TZOFFSETTO:+0100
TZOFFSETFROM:+0100
END:STANDARD
END:VTIMEZONE
END:VCALENDAR
