BEGIN:VCALENDAR
PRODID:-//eluceo/ical//2.0/EN
VERSION:2.0
CALSCALE:GREGORIAN
BEGIN:VEVENT
UID:54c5a60803ea1ed49e9ea9bed22072b2
DTSTAMP:20260425T014948Z
SUMMARY:Jenny Thiele & Band | PLATZ Tour 2026
DESCRIPTION:Dass elektronischer Pop mehr sein kann als nur die Summe der ei
 nzelnen Teile\, wissen alle\, die sich schon mal in einen Diskokugel-Hit v
 erliebt haben. Wie sehr man dieses Prinzip aber zur Meisterschaft bringen 
 kann\, dafür braucht es dann doch die Kölnerin Jenny Thiele und ihr neue
 s Album „Platz“. \n\nJenny Thiele ... Basics \nVor ihrem Fenster liegt
  Köln. Köln-Mülheim\, wenn man es genau nimmt. Jenny Thiele liebt es hi
 er\, ein kreativer\, aufgekratzter Kiez\, der aber nie auf Stress aus ist.
  Köln at its best eben. Gebürtig in Dresden\, aufgewachsen beschaulich m
 ausig am Niederrhein\, studiert in Benelux ist die Musikerin vor allem ein
 es: Natural Born Künstlerin. Wo andere vielleicht über Zufälle oder Ver
 strickungen auf der Bühne landen mögen\, gab es für Jenny Thiele nie ei
 nen Zweifel\, nie die andere Option. Und wo andere zwischen Kunst\, Life u
 nd Selbstvermarktung den Fokus verlieren\, hat Jenny Thiele immer noch ein
  paar Tentakel übrig\, um am liebsten noch ein neues Projekt anzuschieben
 . \n\nJenny Thiele hat einen Crush auf das Zusammenlegen von Ideen und Res
 sourcen - sich inspirieren\, sich ausprobieren. Mit Irene Novoa unterhält
  sie das Duo AnnaOtta – auf ihrer gemeinsamen musikalischen Forschungsre
 ise emulieren die beiden hypnotischen Jazz mit elektronischen Mitteln\, ma
 chen Avantgarde tanzbar. Und wie! Zudem sieht sich Jenny Thiele über viel
 e Jahre fest (und zuletzt noch mal lose) verschaltet mit der Band Fortuna 
 Ehrenfeld. Ja\, genau\, der charismatische Act mit dem Typ in Stola\, Pusc
 hen und Schlafanzug. Das letzte Kommando. Allein durch Fortuna Ehrenfeld s
 tieg Jenny Thieles Konzert-Count in schwindelerregende Höhen. \n2022 ersc
 heint dann endlich ihr eigenes Album „Killing Time“ - mit englischspra
 chigen Texten. Die begeisterte Resonanz\, die ihr eigenes Songwriting im A
 ußen auszulösen vermag\, fühlt sich toll an. Denn obwohl sie schon imme
 r Musik selbst schreibt\, öffnet „Killing Time“ ganz neue Räume. Der
  reduzierte Sound lässt die emotionalen Singer-Songwriter-Stücke gleiche
 rmaßen pointiert wie sanft erscheinen. Jetzt kann es echt losgehen. Und s
 o fungiert diese Platte auch als eine Art Schleuse. Jenny Thiele kann von 
 diesem Punkt nun ihre eigene Legacy von all dem wuseligen Davor abgrenzen.
  Parole: Platz schaffen. Denn der ist nötiger denn je. Und zwar für ein 
 Album\, das 2025 erscheinen wird. Das erste richtig große Ankommen nach a
 ll den Aufbrüchen\, heißt: „Platz“. Adrenalin! \n\nText: Linus Volkm
 ann       ©Tom Hagemeyer
DTSTART:20260517T190000
DTEND:20260517T220000
LOCATION:Kulturhaus Alter Schlachthof Soest\, Ulrichertor 4\, 59494 Soest\,
  
END:VEVENT
BEGIN:VTIMEZONE
TZID:Europe/Berlin
BEGIN:DAYLIGHT
DTSTART:20260517T190000
TZNAME:CEST
TZOFFSETTO:+0200
TZOFFSETFROM:+0200
END:DAYLIGHT
END:VTIMEZONE
END:VCALENDAR
