BEGIN:VCALENDAR
PRODID:-//eluceo/ical//2.0/EN
VERSION:2.0
CALSCALE:GREGORIAN
BEGIN:VEVENT
UID:c2d2658ebdbbcbeeaa1d6d1de2cf3837
DTSTAMP:20260425T014850Z
SUMMARY:Online-Infoveranstaltung Duales Studium Soest
DESCRIPTION:Duales Studium – eine Begrifflichkeit\, die in der Praxis unt
 erschiedlich Charakteristika aufweist. Begriffe wie "Verbundstudium"\, "Ko
 operatives Modell"\, "praxisintegrierend"\, "ausbildungsintegrierend" werd
 en dieser Studienform zugeordnet und im Verlauf der Veranstaltung abgegren
 zt.<br />\nEs werden Hinweise und Tipps zur Studienorientierung\, den mög
 lichen Fachrichtungen und Voraussetzungen sowie Raum für individuelle Fra
 gen geboten. Ziel ist es\, Interessierten Wissen und Hilfestellungen an di
 e Hand zu geben\, um die Selbsteinschätzung\, ob diese Studienform geeign
 et ist\, zu unterstützen.
DTSTART:20260414T163000
DTEND:20260414T171500
LOCATION:Fachhochschule Südwestfalen\, Lübecker Ring 2\, 59494 Soest\, 
END:VEVENT
BEGIN:VTIMEZONE
TZID:Europe/Berlin
BEGIN:DAYLIGHT
DTSTART:20260414T163000
TZNAME:CEST
TZOFFSETTO:+0200
TZOFFSETFROM:+0200
END:DAYLIGHT
END:VTIMEZONE
END:VCALENDAR
