BEGIN:VCALENDAR
PRODID:-//eluceo/ical//2.0/EN
VERSION:2.0
CALSCALE:GREGORIAN
BEGIN:VEVENT
UID:9653f8e32a5a952d8ff934bc00d2365c
DTSTAMP:20260424T162915Z
SUMMARY:Lennart Schilgen | Abwesenheitsnotizen
DESCRIPTION:Lennart Schilgen schreibt Lieder\, die Geschichten erzählen. M
 eistens über das\, woran er scheitert: Entscheidungen treffen. Mädchen a
 m Lagerfeuer beindrucken. Den Kapitalismus abschaffen. Dafür gelingt es i
 hm immer wieder\, dem Konzept „Typ mit Gitarre“ ungehörte Facetten ab
 zutrotzen. Musikalisch versiert spielt er mit Genre-Traditionen und spring
 t lässig zwischen Stilen und Stimmungen: Mal beatlesquer Pop\, mal stramm
  marschierende Protesthymne\, mal „Reinhard Mey-Parodie zum Niederknien
 “ (Mannheimer Morgen). Für seine „Funken schlagende Sprachkunst“ (A
 Z) wurde er vielfach ausgezeichnet\, unter anderem mit dem „Prix Pantheo
 n“. Natürlich weiß er\, dass Preise nichts über die Qualität aussage
 n müssen. Aber wenn er sie selbst gewinnt\, kann er da erstaunlich gut dr
 über hinwegsehen.\n\nStändig erreichbar sein war gestern. Lennart Schilg
 en meldet sich mit seinem dritten Programm zurück – und glänzt durch A
 bwesenheit. Wenn er nicht gerade Konzerte gibt und Kleinkunstpreise einhei
 mst (Prix Pantheon\, Stuttgarter Besen\, u.v.m.) macht er vor allem nämli
 ch eins: sich davon. Unter anderem geht’s auf Radtour\, ins Kloster und 
 ins kommunistische Sommercamp. Oder auch nur in die Untiefen seiner Gedank
 en\, was oft abenteuerlich genug ist.\nHerauskommen Lieder über die Ab- u
 nd Umwege in der Welt und im eigenen Kopf. Voller Leichtigkeit und Witz\, 
 aber auch ohne Scheu davor\, sich den dunklen Ecken zu widmen. So wird die
 smal teils jahrelang unter den Teppich Gekehrtes hervorgekramt: Die alte P
 UR-Kassette. Die Grundschulzeugnisse. Die Sache mit der Nachtbushaltestell
 e. Zum Glück führt Schilgen sicher über jeden Abgrund – getragen von 
 seinem versierten Klavier- und Gitarrenspiel\, seiner Stimme und seinem 
 „wachen Geist\, mit Herz und Humor und hinterhältigen Pointen“ (Lauda
 tio zur ‚Tuttlinger Krähe‘).\nUnd wenn alle Stricke reißen\, gibt’
 s ja immer noch die Gedichte: kleine\, sprachliche Wundertüten\, zu tiefs
 t albern\, in höchstem Maße kunstvoll. Die erst kürzlich erschienen „
 Gesammelten Werke“ sind\, wenn damit hier kurz angegeben werden darf\, i
 n Lyrikband-Maßstäben bereits sowas wie ein Bestseller. Noch Fragen? Dan
 n können Sie ihm gerne jederzeit eine Mail schreiben. Er antwortet halt n
 icht. Also: am besten einfach direkt zum Konzert kommen.\n\nPressestimmen\
 n„Mit raffinierten Texten und intelligenter Musik brachte er das Publiku
 m die ganze Zeit zum Lachen. […] Wer Bodo Wartke mag\, wird Lennart Schi
 lgen lieben.“ NDR\n\n„All diese charmanten Frechheiten verpackt er zud
 em in so eingängige Melodien\, dass man seinen Auftritt so lange im Ohr b
 ehalten wird\, bis man endlich jeden weiteren talentierten Liedermacher mi
 t Lennart Schilgen vergleichen muss.“ Berliner Zeitung\n\n„Funken schl
 agende Sprachkunst“ AZ\n\n„Der versierte Musiker und feinsinnige Humor
 ist […] holte sich am Wochenende verdient den Sieg beim Bielefelder Kaba
 rettpreis.“ Westfalen-Blatt\n\n„In den sprachlich ausgefeilten Songtex
 ten entfaltet sich Poesie. […] Komisch und rührend zugleich.“ Neue We
 stfälische\n\n„Das ist besser\, witziger\, geistreicher als vieles\, wa
 s uns im TV- Abendprogramm geboten wird. Lennart Schilgens mit Charme vorg
 etragene Lieder und Gedichte vermitteln pure Lebensfreude.“ Rheinpfalz\n
 \n„Sprachlich sehr dicht und mit einem Maximum an skurrilen Einfällen a
 usgestattet.“  Haller Kreisblatt\n\n„Urkomische Performance!" Remschei
 der General-Anzeiger\n\n„Man geht mit Freude mit auf seine doppelten Bö
 den\, man jubelt innerlich über die vielen Einfälle und Reime […] Wund
 erbar leichte\, überraschend unaufwändige und höchst einfallsreiche Son
 gs.“ Aus der Laudatio zum Deutschen Chansonpreis-Nachwuchspreis
DTSTART:20260327T200000
DTEND:20260327T230000
LOCATION:Kulturhaus Alter Schlachthof Soest\, Ulrichertor 4\, 59494 Soest\,
  
END:VEVENT
BEGIN:VTIMEZONE
TZID:Europe/Berlin
BEGIN:STANDARD
DTSTART:20260327T200000
TZNAME:CET
TZOFFSETTO:+0100
TZOFFSETFROM:+0100
END:STANDARD
END:VTIMEZONE
END:VCALENDAR
