BEGIN:VCALENDAR
PRODID:-//eluceo/ical//2.0/EN
VERSION:2.0
CALSCALE:GREGORIAN
BEGIN:VEVENT
UID:1e7d99d1afa6dfcf1fc53948debc6508
DTSTAMP:20260425T014945Z
SUMMARY:Online-Infoveranstaltung des Studiengangs Design- und Projektmanage
 ment
DESCRIPTION:Kreativ denken\, strategisch managen! Der Bachelorstudiengang D
 esign- und Projektmanagement (DPM) verbindet Design\, Technik und Wirtscha
 ft zu einem sinnstiftenden und durchdachten Konzept. Der interdisziplinär
 e Ansatz inspiriert Sie\, Unternehmen\, Produkte und Prozesse ganzheitlich
  zu gestalten\, nachhaltige Lösungen zu entwickeln und positive Veränder
 ungen voranzutreiben. DPM eröffnet Ihnen vielseitige Karrierechancen sowi
 e wertvolle Entwicklungsmöglichkeiten.<br />\nInformieren Sie sich aus er
 ster Hand über den Studiengang und lernen Sie uns bei der Online-Veransta
 ltung persönlich kennen.
DTSTART:20260414T173000
DTEND:20260414T183000
LOCATION:Fachhochschule Südwestfalen\, Lübecker Ring 2\, 59494 Soest\, 
END:VEVENT
BEGIN:VTIMEZONE
TZID:Europe/Berlin
BEGIN:DAYLIGHT
DTSTART:20260414T173000
TZNAME:CEST
TZOFFSETTO:+0200
TZOFFSETFROM:+0200
END:DAYLIGHT
END:VTIMEZONE
END:VCALENDAR
