BEGIN:VCALENDAR
PRODID:-//eluceo/ical//2.0/EN
VERSION:2.0
CALSCALE:GREGORIAN
BEGIN:VEVENT
UID:6a3826a58a54797f03b62f0d75a52292
DTSTAMP:20260424T180035Z
SUMMARY:Online-Infoveranstaltung: Studieren in Soest
DESCRIPTION:Der Hochschulstandort Soest bietet praxisnahe und zukunftsorien
 tierte Studiengänge\, moderne Labore und eine vielseitige Bibliotheksausw
 ahl. Wir nennen Ihnen darüber hinaus noch viele weitere gute Gründe\, wa
 rum es sich lohnt\, am Campus in Soest zu studieren.<br /><br />\nIn den I
 nfoveranstaltungen informieren wir Sie über folgende Themen:<br /><br />\
 n- Fachhochschule Südwestfalen<br /><br />\n- Hochschulstandort Soest<br 
 /><br />\n- Studienmöglichkeiten in Soest<br /><br />\n- Campusleben (#st
 udentslife)<br /><br />\n- Studienfinanzierung<br /><br />\n- Termine<br /
 ><br />\n- Interaktive Fragerunde
DTSTART:20260520T180000
DTEND:20260520T190000
LOCATION:Fachhochschule Südwestfalen\, Lübecker Ring 2\, 59494 Soest\, 
END:VEVENT
BEGIN:VTIMEZONE
TZID:Europe/Berlin
BEGIN:DAYLIGHT
DTSTART:20260520T180000
TZNAME:CEST
TZOFFSETTO:+0200
TZOFFSETFROM:+0200
END:DAYLIGHT
END:VTIMEZONE
END:VCALENDAR
