BEGIN:VCALENDAR
PRODID:-//eluceo/ical//2.0/EN
VERSION:2.0
CALSCALE:GREGORIAN
BEGIN:VEVENT
UID:8ca15e41de9073aac94312f4a2664a14
DTSTAMP:20260425T014941Z
SUMMARY:Treffen Kulturloge
DESCRIPTION:
DTSTART:20260210T190000
DTEND:20260210T210000
LOCATION:KulturQuartier - KULTURWohnzimmer\, Ulrichertor 4\, 59494 Soest\, 
END:VEVENT
BEGIN:VTIMEZONE
TZID:Europe/Berlin
BEGIN:STANDARD
DTSTART:20260210T190000
TZNAME:CET
TZOFFSETTO:+0100
TZOFFSETFROM:+0100
END:STANDARD
END:VTIMEZONE
END:VCALENDAR
