BEGIN:VCALENDAR
PRODID:-//eluceo/ical//2.0/EN
VERSION:2.0
CALSCALE:GREGORIAN
BEGIN:VEVENT
UID:239af0e5bf58b69f7e99849824622ac5
DTSTAMP:20260425T014946Z
SUMMARY:Online-Infoveranstaltung der Fachbereiche MAT und EET
DESCRIPTION:Informieren Sie sich aus erster Hand über die technischen und 
 wirtschaftlichen Studiengänge der Fachbereiche Maschinenbau-Automatisieru
 ngstechnik und Elektrische Energietechnik und lernen Sie uns in der Online
 -Veranstaltung auch gleich persönlich kennen!
DTSTART:20260414T173000
DTEND:20260414T190000
LOCATION:Fachhochschule Südwestfalen\, Lübecker Ring 2\, 59494 Soest\, 
END:VEVENT
BEGIN:VTIMEZONE
TZID:Europe/Berlin
BEGIN:DAYLIGHT
DTSTART:20260414T173000
TZNAME:CEST
TZOFFSETTO:+0200
TZOFFSETFROM:+0200
END:DAYLIGHT
END:VTIMEZONE
END:VCALENDAR
