BEGIN:VCALENDAR
PRODID:-//eluceo/ical//2.0/EN
VERSION:2.0
CALSCALE:GREGORIAN
BEGIN:VEVENT
UID:09ffa466f87e3ba346f3d03815140256
DTSTAMP:20260425T014819Z
SUMMARY:Gregor McEwan - Going Solo
DESCRIPTION:Going Solo - An Evening with Gregor McEwan in Concert präsenti
 ert von Rolling Stone\, kulturnews\, prettyinnoise.de & Rausgegangen\n\nGr
 egor McEwan ist "on the road again" um sein neues Album vorzustellen. Aber
  natürlich dürfen auch Stücke der ersten vier Alben "Houses And Homes"\
 , "Much Ado About Loving"\, "From A To Beginning" und "Four Seasons" nicht
  fehlen\, welche McEwan immer wieder Vergleiche mit internationalen GenreG
 rößen wie Glen Hansard\, Damien Rice\, City And Colour oder Noel Gallagh
 er einbrachten. Auszug aus der Presseinfo von Linus Volkmann: Man ist einf
 ach ergriffen von der emotionalen Tiefe dieser Songs. Die hätten die Kraf
 t\, einen auch mit schäbiger Akustikgitarre am Lagerfeuer zum Heulen zu b
 ringen. Dass Gregor McEwan sie aber zusätzlich um so eine variantenreiche
  Soundästhetik erweitert\, belegt die Ausnahmeposition\, die der Wahl-Ber
 liner einnimmt (…) Es handelt sich um fast schon obszön virtuose Songs\
 , eine Essenz. Vielleicht hat uns McEwan seine Kunst noch nie so fokussier
 t dargelegt. Diese Stücke sind ein Ereignis! Das ganze Adrenalin\, das Gl
 ück\, die Schwermut\, die einen hier flutet. Das ist das\, worum es in di
 eser Form von Musik gehen muss – um nichts anderes. Ich bin jedes Mal na
 ch dem Hören fix und fertig. Danke dafür! "... Gregor McEwan kann viel m
 ehr als Folk. Er ist nicht der Folkbarde von nebenan\, der mit seiner Gita
 rre jede verwaiste Bühne entert. Viel zu breit gefächert sind seine musi
 kalischen Visionen. Große Liebeslieder!..." (Rolling Stone) "… Gregor M
 cEwan ist auf alle Fälle ein richtig guter Musiker. Ich bin wirklich erst
 aunt\, das Ende von Halloween Costume ist wie eine Hommage an One von Meta
 llica - also\, wenn dieses Schlagzeug so einsetzt. Und der Song ist spitze
 ! Das Video ist auch toll! Gregor McEwan pack' ich mit Halloween Costume a
 uf auf die Fidi & Bumsi Playlist..." (Olli Schulz im Fest & Flauschig Podc
 ast)
DTSTART:20260213T200000
DTEND:20260213T230000
LOCATION:Kulturhaus Alter Schlachthof Soest\, Ulrichertor 4\, 59494 Soest\,
  
END:VEVENT
BEGIN:VTIMEZONE
TZID:Europe/Berlin
BEGIN:STANDARD
DTSTART:20260213T200000
TZNAME:CET
TZOFFSETTO:+0100
TZOFFSETFROM:+0100
END:STANDARD
END:VTIMEZONE
END:VCALENDAR
