BEGIN:VCALENDAR
PRODID:-//eluceo/ical//2.0/EN
VERSION:2.0
CALSCALE:GREGORIAN
BEGIN:VEVENT
UID:32f09842a960af52741c94eb999fcc4d
DTSTAMP:20260425T042355Z
SUMMARY:Stina Holmquist & Band | If All My Hopes Find Answers
DESCRIPTION:“Überraschend\, beeindruckend\, zu Herzen gehend” (Gaestel
 iste.de)\n\nGemeinsam mit ihrer Band entwickelt Stina Holmquist eine moder
 ne\, zeitlose Indie-Popmusik\,\ndie einen ganz eigenen Sound kreiert. Warm
 e atmosphärische Indie-Klänge werden dabei immer\nwieder überraschend v
 on energiegeladenen Momenten durchbrochen.\nAufgewachsen im lauten Ruhrgeb
 iet\, trägt Stina Holmquist familiäre schwedische Wurzeln in sich.\nDie 
 Liebe zu beidem und gleichzeitig das Gefühl\, nie nur an einem Ort zu Hau
 se zu sein\,\nentwickeln eine innere Energie\, die sich aus Sehnsucht\, Ta
 gträumen und immer wieder neu\nEntdecken nährt. Es ist dieser Ausgangspu
 nkt\, der zu der tiefen Emotionalität in jedem Holmquist\nSong führt und
  so viele von uns berührt.\n\nNach drei intensiven Bühnenjahren mit 150 
 Livekonzerten schaut sie schon jetzt auf\nbeeindruckende Meilensteine zur
 ück\, die Stina’s künstlerische Biographie geprägt haben: neben\neige
 nen Konzerten in der ganzen Republik und benachbartem Ausland stand sie u.
 a. auf der\nBühne als Support-Act für die deutschen Indie-Größen Giant
  Rooks und Leoniden\, spielte Festival-\nShows auf renommierten Festivals 
 wie Traumzeit\, Orange Blossom oder dem Juicy Beats\, wurde\nganz nebenbei
  auch für den popNRW Preis als ‘Beste Newcomerin’ nominiert und gewan
 n den\nLalla:Labor Förderpreis. Im Oktober 2025 präsentiert der WDR Rock
 palast Stina Holmquist\ngemeinsam mit Cari Cari in Bonn.\n\nIm Herbst 2025
  erschien Stina’s zweite EP “If all my hopes find answers”\, produzi
 ert von\nAlex Sprave (Fil Bo Riva) und Jochen Naaf (Giant Rooks).
DTSTART:20260417T200000
DTEND:20260417T230000
LOCATION:Kulturhaus Alter Schlachthof Soest\, Ulrichertor 4\, 59494 Soest\,
  
END:VEVENT
BEGIN:VTIMEZONE
TZID:Europe/Berlin
BEGIN:DAYLIGHT
DTSTART:20260417T200000
TZNAME:CEST
TZOFFSETTO:+0200
TZOFFSETFROM:+0200
END:DAYLIGHT
END:VTIMEZONE
END:VCALENDAR
