BEGIN:VCALENDAR
PRODID:-//eluceo/ical//2.0/EN
VERSION:2.0
CALSCALE:GREGORIAN
BEGIN:VEVENT
UID:89ba78d9d0d7c5318a0fa04577cdb568
DTSTAMP:20260425T014820Z
SUMMARY:Kieran Goss & Annie Kinsella
DESCRIPTION:Obwohl Kieran Goss seit Jahren als einer der führenden Singer/
 Songwriter Irlands gilt\, war es die jüngste Zusammenarbeit mit Annie Kin
 sella mit dem gemeinsamen Debüt-Album "Oh\, The Starlings"\, welche den b
 eiden Künstlern einen Platz in der Songwriter-Liga Irlands sicherte und z
 u ausverkauften Konzerten in den grössten Hallen der grünen Insel führt
 e.\nSeit vielen Jahren touren die beiden auch durch Deutschland\, wo sie s
 ich eine treue und stetig wachsende Fangemeinde aufgebaut haben\, die nich
 t nur wegen der grossartigen Songs und der beiden harmonierenden Stimmen\,
  sondern auch wegen der Geschichten voller Witz und irischem Charme immer 
 wieder zu den Konzerten kommt. Wir freuen uns riesig\, dass die beiden mit
  einer ganz besonderen Show in Soest  zurückkehren und viele neue\, noch 
 unveröffentlichte Songs präsentieren werden.\nKieran erklärt: „Ich bi
 n immer der Meinung gewesen\, dass der Prozess des Songwritings erst abges
 chlossen ist\, wenn das Lied live vor einem Publikum gespielt wird. Deshal
 b haben Annie und ich entschieden\, dass wir einige unserer Lieblings-Club
 s besuchen werden\, wo wir die Lieder ganz nah bei unserem Publikum in ein
 em intimen Rahmen singen können. Kulturhaus Alter Schlachthof war dabei g
 anz oben auf unserer Liste! Wir hatten über die Jahre so viele wundersch
 öne Konzerte in diesem Theater und konnten viele Freundschaften knüpfen.
  Deshalb freuen wir uns ganz besonders zurückkehren zu dürfen.
DTSTART:20260220T190000
DTEND:20260220T230000
LOCATION:Kulturhaus Alter Schlachthof Soest\, Ulrichertor 4\, 59494 Soest\,
  
END:VEVENT
BEGIN:VTIMEZONE
TZID:Europe/Berlin
BEGIN:STANDARD
DTSTART:20260220T190000
TZNAME:CET
TZOFFSETTO:+0100
TZOFFSETFROM:+0100
END:STANDARD
END:VTIMEZONE
END:VCALENDAR
