BEGIN:VCALENDAR
PRODID:-//eluceo/ical//2.0/EN
VERSION:2.0
CALSCALE:GREGORIAN
BEGIN:VEVENT
UID:3fb338dc07cb3e8e0b381247b1f6ad71
DTSTAMP:20260425T014802Z
SUMMARY:The Pretty Heartbreakers | A Tribute to Tom Petty
DESCRIPTION:Tom Petty & The Heartbreakers haben Musikgeschichte geschrieben
 . So war der Tod des Sängers\n2017 nicht nur für seine Fans weltweit ein
  Schock: Nie wieder Hits wie „Free Fallin’“\, „Learning to fly“\
 noder „Into the great wide open“ live auf der Bühne? Die Antwort lief
 ert eine Tribute-Band aus\nDeutschland\, die sich in kürzester Zeit eine 
 stetig wachsende Fangemeinde erspielt hat: The Pretty\nHeartbreakers. Was 
 zunächst aus einer Bierlaune heraus geboren wurde\, ist heute ein „Must
  have“\nfür alle Liebhaber zeitloser Rock- und Pop-Songs.\nDementsprech
 end positiv fallen die Pressestimmen aus. Das Magazin „Nordevents“ ade
 lte jüngst The\nPretty Heartbreakers als „Deutschlands wohl überzeugen
 dste Tom-Petty-Tribute-Band“. Der Auftritt\nim legendären Hamburger Clu
 b „Logo“ war demnach „ein Beweis\, wie lebendig das Werk Tom Pettys\
 nauch heute noch klingt\, wenn man es mit so viel Respekt und Können auf 
 die Bühne bringt“.\n\nMit seinem einzigartigen Mix aus Rock\, Pop\, Cou
 ntry und Folk hatte sich Tom Petty ab Mitte der 70er\nJahre in den Olymp d
 er bekanntesten Musiker hochgearbeitet. In Europa gefeiert\, in den USA al
 s\nabsoluter Superstar verehrt. Viele seiner Songs gehören bis heute bei 
 Radiosendern zum Standard-\nRepertoire. Das musikalische Erbe führen nun 
 Justus Kopanski (Vocals\, Guitar\, Blues Harp)\, Thomas\nWirtz (Lead Guita
 r)\, Akki Katerbau (Rhythm Guitar)\, Michael Neumahr (Bass)\, Jeremy Pütz
  (Drums)\nund Jan Wördenweber (Keyboards) mit einer mitreißenden Live-Pe
 rformance fort.\n\nThe Pretty Heartbreakers sorgen dafür\, dass Tom Petty
 s Hits auch live unsterblich bleiben. „Mary\nJane’s last dance" ist no
 ch nicht getanzt.
DTSTART:20260509T200000
DTEND:20260509T230000
LOCATION:Kulturhaus Alter Schlachthof Soest\, Ulrichertor 4\, 59494 Soest\,
  
END:VEVENT
BEGIN:VTIMEZONE
TZID:Europe/Berlin
BEGIN:DAYLIGHT
DTSTART:20260509T200000
TZNAME:CEST
TZOFFSETTO:+0200
TZOFFSETFROM:+0200
END:DAYLIGHT
END:VTIMEZONE
END:VCALENDAR
