BEGIN:VCALENDAR
PRODID:-//eluceo/ical//2.0/EN
VERSION:2.0
CALSCALE:GREGORIAN
BEGIN:VEVENT
UID:af4a8a7910e30aef5b3a67f3dead7ba8
DTSTAMP:20260424T160430Z
SUMMARY:Vonda Shepard | European Spring Tour 2026
DESCRIPTION:Vonda Shepard – European Spring Tour 2026\nMit ihrer gefühlv
 ollen Stimme\, leidenschaftlichen Bühnenpräsenz und der beeindruckenden 
 Verbindung aus Gesang und Klavier begeistert Vonda Shepard seit Jahrzehnte
 n ihr Publikum – im Frühjahr 2026 geht die US-amerikanische Musikerin w
 ieder auf große Europa-Tournee und macht natürlich auch in Deutschland H
 alt!\nBegleitet wird sie wie immer von ihrer herausragenden All-Star-Band:
  James Ralston an der Gitarre (22 Jahre mit Tina Turner)\, Jim Hanson am B
 ass (Bruce Springsteen\, Johnny Cash) und Fritz Lewak am Schlagzeug (30 Ja
 hre mit Jackson Browne). Gemeinsam bringen sie eine mitreißende Mischung 
 auf die Bühne – mit Songs aus Vondas 14 Studioalben\, beliebten Klassik
 ern aus der Ally McBeal-Ära und brandneuen Stücken.\nGanz besonders freu
 t sich Vonda auf die Termine in Deutschland\, denn hier ist in den letzten
  Jahren eine treue und stetig wachsende Fan-Community entstanden. „Es f
 ühlt sich mittlerweile fast wie ein Wiedersehen mit der Familie an – di
 e Energie ist jedes Mal unglaublich!“\, erzählt sie begeistert.\n„Ich
  liebe es\, mich ans Klavier zu setzen\, ein paar Songs solo zu spielen 
 – und dann mit meiner Band so richtig loszulegen. Am Ende soll es eine g
 roße Party sein\, bei der niemand mehr sitzen bleibt und alle mitsingen! 
 Ich freue mich riesig\, auch neue Songs im Gepäck zu haben\, denn ich arb
 eite gerade an einem neuen Album\, das im Frühjahr 2026 erscheinen soll. 
 Stand jetzt: Es entwickelt sich zu etwas GROSSEM! Die Aufnahmen starten im
  Mai“\, so Vonda weiter.\nVonda Shepard\nVonda Shepard wurde 1963 in New
  York City in eine künstlerisch geprägte Familie geboren. Bereits mit se
 chs Jahren begann sie Klavier zu spielen\, schrieb mit acht ihre ersten So
 ngs und stand mit 14 das erste Mal auf der Bühne. Ursprünglich träumte 
 sie von einer Karriere als Astrophysikerin – doch nach ihrem ersten Auft
 ritt als Musikerin war klar: Die Musik ist ihre Welt.\nAb 1985 tourte Vond
 a als Backgroundsängerin und Keyboarderin mit Rickie Lee Jones\, Al Jarre
 au und Jackson Browne\, für dessen Tournee sie ab 1996 erstmals als Solok
 ünstlerin eröffnete. Den internationalen Durchbruch schaffte sie 1997 mi
 t ihrer Rolle als Bar-Sängerin in der Kultserie Ally McBeal. Mit dem Tite
 lsong Searchin' My Soul  landete sie einen weltweiten Hit – insgesamt st
 euerte sie über 500 Songs zur Serie bei.\nBis heute hat Vonda Shepard üb
 er 12 Millionen Alben verkauft\, wurde mit zwei Golden Globes\, zwei Emmys
  und zwei Screen Actors Guild Awards ausgezeichnet und hält den Billboard
 -Rekord für die meistverkauften TV-Soundtracks aller Zeiten.
DTSTART:20260426T190000
DTEND:20260426T220000
LOCATION:Kulturhaus Alter Schlachthof Soest\, Ulrichertor 4\, 59494 Soest\,
  
END:VEVENT
BEGIN:VTIMEZONE
TZID:Europe/Berlin
BEGIN:DAYLIGHT
DTSTART:20260426T190000
TZNAME:CEST
TZOFFSETTO:+0200
TZOFFSETFROM:+0200
END:DAYLIGHT
END:VTIMEZONE
END:VCALENDAR
