BEGIN:VCALENDAR
PRODID:-//eluceo/ical//2.0/EN
VERSION:2.0
CALSCALE:GREGORIAN
BEGIN:VEVENT
UID:ae1f146ff1f3ab0f04957cfbebffc7a4
DTSTAMP:20260425T004432Z
SUMMARY:Deutsch-holländischer Stoffmarkt
DESCRIPTION:Der graue Winter ist vorbei\, wir freuen uns auf ein bisschen m
 ehr Farbe und Leichtigkeit und damit auch auf die Frühjahrausgabe des Soe
 ster Stoffmarktes. Der große deutsch-holländische Stoffmarkt findet scho
 n seit geraumer Zeit wegen der großen Nachfrage gleich zweimal im Jahr in
  Soest statt. Schließlich sind in den verschiedenen Jahreszeiten und bei 
 völlig anderen Temperaturen durchaus auch unterschiedliche Stoffe und Qua
 litäten gefragt. Der Frühlingstermin fällt diesmal auf Sonntag\, den 19
 . April. Zwischen 11 und 17 Uhr kann man dann endlich wieder einmal in Sam
 t und Seide schwelgen\, sich von Farben und Mustern begeistern lassen und 
 sicher so manches Schnäppchen machen. Scheinbar endlos reihen und stapeln
  sich an diesem Sonntag Stoffballen an bis zu 100 Ständen und bieten für
  jeden Geschmack und jede Gelegenheit das Richtige. Ein El Dorado für all
 e\, die gern nähen oder sich anderweitig handwerklich mit Stoffen beschä
 ftigen – und das direkt vor der Haustür. Das Angebot punktet auch diesm
 al wieder mit einer großer Auswahl und attraktiven Preisen – was erklä
 rt\, warum dieser Stoffmarkt einen hervorragenden Ruf genießt und die Bes
 ucher und Käufer in Scharen anzieht.\n\nÜbrigens: Die Herbstausgabe des 
 deutsch-holländischen Stoffmarktes findet in diesem Jahr am 11. Oktober i
 n Soest statt.
DTSTART:20260419T110000
DTEND:20260419T170000
LOCATION:Innenstadt Soest\, 59494 Soest\, 
END:VEVENT
BEGIN:VTIMEZONE
TZID:Europe/Berlin
BEGIN:DAYLIGHT
DTSTART:20260419T110000
TZNAME:CEST
TZOFFSETTO:+0200
TZOFFSETFROM:+0200
END:DAYLIGHT
END:VTIMEZONE
END:VCALENDAR
