BEGIN:VCALENDAR
PRODID:-//eluceo/ical//2.0/EN
VERSION:2.0
CALSCALE:GREGORIAN
BEGIN:VEVENT
UID:e870f77f878b745dc6894a06cb12640e
DTSTAMP:20260425T014756Z
SUMMARY:Monatstreffen Mitmachgarten
DESCRIPTION:Austausch\, Kreative Projekte\, Einführung von neuen Mitmachg
 ärtner*innen
DTSTART:20260407T180000
DTEND:20260407T213000
LOCATION:KulturQuartier - Kreativraum\, Ulrichertor 4\, 59494 Soest\, 
END:VEVENT
BEGIN:VTIMEZONE
TZID:Europe/Berlin
BEGIN:DAYLIGHT
DTSTART:20260407T180000
TZNAME:CEST
TZOFFSETTO:+0200
TZOFFSETFROM:+0200
END:DAYLIGHT
END:VTIMEZONE
END:VCALENDAR
