BEGIN:VCALENDAR
PRODID:-//eluceo/ical//2.0/EN
VERSION:2.0
CALSCALE:GREGORIAN
BEGIN:VEVENT
UID:7caf2f58a0e2f2a59d662ecb417174ff
DTSTAMP:20260425T014851Z
SUMMARY:Quadro Nuevo - Happy Deluxe
DESCRIPTION:Melodien aus fernen Welten\, Tango\, ägäische Mythen-Klänge\
 , orientalische Grooves\, waghalsige Improvisationen und Fahrtenlieder ent
 lang einer sonnenbeschienen Küstenstraße\, Swing\, Balladen und mediterr
 ane Leichtigkeit verdichten sich zu märchenhaften Tonfabeln.\n\nDiese erz
 ählen vom Vagabundenleben\, den Erfahrungen und Begegnungen auf der groß
 en Reise des Lebens\, den kleinen Zufällen und den großen Momenten\, von
  Zartheit und wildem Temperament\, immer getrieben zwischen östlichen und
  westlichen Winden\, zwischen verzehrender Sehnsucht und genussvoller Erf
 üllung – zwischen dem Bitteren und dem Süßen.\n\nDie Jugendfreunde Mu
 lo Francel und Didi Lowka gründeten 1996 das Ensemble Quadro Nuevo. Unzä
 hlige Orte von Helsinki bis Hong Kong\, vom Kaukasus bis in die New Yorker
  Carnegie Hall haben die abenteuerlustigen Künstler seither bereist.\nDur
 ch ihre verwegene Musizierweise holten sie sich zweimal den ECHO\, eine Go
 ldene Schallplatte\, den Preis der Deutschen Schallplattenkritik und mehre
 re Jazz Awards.\n\nMit dem extravagant-spielwitzigen Akkordeonisten Andrea
 s Hinterseher und dem durch verschwenderischen Ideenreichtum glänzenden P
 ianisten Chris Gall leben sie ihre Musik im Hier und Jetzt. Dies erinnert 
 an vier Burschen\, die fröhlich musizierend über die südlichen Stadtpl
 ätze und Jahrmärkte zogen. So geschehen in den Anfängen von Quadro Nuev
 o.\n\nSpäter verbrachte man Zeiten in Buenos Aires und Rio de Janeiro\, p
 robte tagelang in der flirrenden Mittagshitze\, schwärmte abends aus\, st
 ürzte sich kopfüber in die Szene\, begleitete Tänzer\, berauschte sich 
 an schwerem Wein\, Caipirinha und frischer Brazilian Music direkt von der 
 Quelle.\n\nHeraus kam das Album HAPPY Deluxe.
DTSTART:20260208T190000
DTEND:20260208T210000
LOCATION:Kulturhaus Alter Schlachthof Soest\, Ulrichertor 4\, 59494 Soest\,
  
END:VEVENT
BEGIN:VTIMEZONE
TZID:Europe/Berlin
BEGIN:STANDARD
DTSTART:20260208T190000
TZNAME:CET
TZOFFSETTO:+0100
TZOFFSETFROM:+0100
END:STANDARD
END:VTIMEZONE
END:VCALENDAR
