BEGIN:VCALENDAR
PRODID:-//eluceo/ical//2.0/EN
VERSION:2.0
CALSCALE:GREGORIAN
BEGIN:VEVENT
UID:d885ed14059d20be17c64d483b0b7110
DTSTAMP:20260424T160441Z
SUMMARY:DUO-KONZERT
DESCRIPTION:Bereits seit 2012 geben Jin Kim (Violine) und Heike Schwentker 
 (Viola) in Soest jährlich mindestens ein Konzert. So darf sich das Soeste
 r Publikum wiederum auf ein virtuoses Duoprogramm im Tylman Susato Saal de
 r Musikschule Soest freuen. Diesmal haben die beiden heimischen Künstleri
 nnen mit Werken von Johann Sebastian Bach\, Ludwig van Beethoven\, Reinhol
 d Moritzewitsch Glière und Charles-Auguste de Bériot ein Programm aus me
 hreren Jahrhunderten vorbereitet\, um ihrem Publikum ein eindrucksvolles H
 örerlebnis zu bescheren.
DTSTART:20260503T110000
DTEND:20260503T140000
LOCATION:Musikschule Soest\, Schültingerstraße 3-5\, 59494 Soest\, 
END:VEVENT
BEGIN:VTIMEZONE
TZID:Europe/Berlin
BEGIN:DAYLIGHT
DTSTART:20260503T110000
TZNAME:CEST
TZOFFSETTO:+0200
TZOFFSETFROM:+0200
END:DAYLIGHT
END:VTIMEZONE
END:VCALENDAR
