BEGIN:VCALENDAR
PRODID:-//eluceo/ical//2.0/EN
VERSION:2.0
CALSCALE:GREGORIAN
BEGIN:VEVENT
UID:a4dba47f60010a9a01c85d62be0c34c8
DTSTAMP:20260425T014857Z
SUMMARY:PREISTRÄGERKONZERT
DESCRIPTION:Festliche Matinée mit den Preisträger:innen des Regionalwettb
 ewerbs »Jugend musiziert 2026« und einer Auswahl der Preisträgercombos 
 aus dem Landeswettbewerb »Jugend jazzt 2025« - Musikalische Kostproben u
 nd Auszeichnung der jungen Musiker:innen
DTSTART:20260301T110000
DTEND:20260301T140000
LOCATION:Musikschule Soest\, Schültingerstraße 3-5\, 59494 Soest\, 
END:VEVENT
BEGIN:VTIMEZONE
TZID:Europe/Berlin
BEGIN:STANDARD
DTSTART:20260301T110000
TZNAME:CET
TZOFFSETTO:+0100
TZOFFSETFROM:+0100
END:STANDARD
END:VTIMEZONE
END:VCALENDAR
