BEGIN:VCALENDAR
PRODID:-//eluceo/ical//2.0/EN
VERSION:2.0
CALSCALE:GREGORIAN
BEGIN:VEVENT
UID:6e2a827ac5fcc4db46011203454acbc0
DTSTAMP:20260424T122544Z
SUMMARY:Jan Van Weyde | "IMMER WEYDER..."
DESCRIPTION:„IMMER WEYDER…“ dreht sich das Hamsterrad des alltäglich
 en\nWahnsinns für den Kölner Comedian\, Schauspieler und Familienvater.\
 n\nEr\, weiterhin mittendrin im Spagat zwischen Bühnen\, Tv-Shows\, Elter
 nabenden\nund dem häuslichen Bermuda-Dreieck aus weiblichen Hormonen:\nEi
 ne Tochter in der Wackelzahn-Pubertät\, eine Zweite an der\nSchwelle zum 
 trotzigen Teenager und eine Ehefrau in der Prämenopause…\nJan van Weyde
  tanzt auf seinem persönlichen Vulkan.\n\nWo andere verzweifeln\, schöpf
 t Jan unermüdlich Comedy-Gold!\nEr spielt\, triumphiert und … scheitert
 .\n\n„Falls wat is“\, steht ihm natürlich sein Kumpel Heiko zur Seite
 .\nMit zuverlässigem Gespür für Fettnäpfchen lautet Heikos Lebens-\nMo
 tto: Auf der Welle des Shitstorms surft es sich einfach am besten\n- Eine 
 Parade der Peinlichkeiten im Fahrwasser der Freundschaft!\n\nDabei will Ja
 n doch nur unterhalten!\nUnd das kann er wie kaum ein anderer.\nDenn er is
 t charmant\, er ist schnell\, er ist einfach Jan.\n\nJan van Weyde nimmt d
 as Publikum mit in seine Welt der absurdesten\nBeobachtungen. „IMMER WEY
 DER“ ist Stand-Up mit Herz und Tempo.\n\nZur Person:\nJan van Weyde ist 
 preisgekrönter Comedian\, Schauspieler und Synchronsprecher.\n\nSeine Sti
 mme kennt man von zahlreichen Tv Formaten wie „Temptation Island“\, 
 „Das große\nPromibüßen“ oder von „The 50“ auf Amazon Prime.\n\n
 Sein Gesicht hingegen ist bekannt u.a. aus „Last One Laughing“ (LOL) /
  PrimeVideo\, „Ghosts“ / ARD\,\n„Sketch History“ / ZDF und dem gro
 ßen Kinoerfolg das „Kanu des Manitu“ von Bully Herbig.\nMittlerweile 
 hat er insgesamt über 335.000 Follower auf Social Media.\n\nJan van Weyde
  ist mit der Schauspielerin Jasmin Schwiers verheiratet\,\nVater zweier T
 öchter und er lebt in Köln.
DTSTART:20260424T200000
DTEND:20260424T223000
LOCATION:Kulturhaus Alter Schlachthof Soest\, Ulrichertor 4\, 59494 Soest\,
  
END:VEVENT
BEGIN:VTIMEZONE
TZID:Europe/Berlin
BEGIN:DAYLIGHT
DTSTART:20260424T200000
TZNAME:CEST
TZOFFSETTO:+0200
TZOFFSETFROM:+0200
END:DAYLIGHT
END:VTIMEZONE
END:VCALENDAR
