BEGIN:VCALENDAR
PRODID:-//eluceo/ical//2.0/EN
VERSION:2.0
CALSCALE:GREGORIAN
BEGIN:VEVENT
UID:869c406fa9bc4100cdb9613ed5e1736b
DTSTAMP:20260425T014813Z
SUMMARY:Einführungsvortrag zu Bachs Johannespassion BWV 245\, im Petrushau
 s Soest\, mit
DESCRIPTION:Die Kantorei an St. Petri lädt zu einem abendlichen Einführun
 gsvortrag zu Bachs Johannespassion in das Petrushaus am Samstag\, dem 21.0
 3.2026 um 18:00 Uhr. Durch den Abend führt Dr. Christine Blanken vom Bach
 -Archiv Leipzig.
DTSTART:20260321T180000
DTEND:20260321T190000
LOCATION:Petrushaus\, Petrikirchhof 8\, 59494 Soest\, 
END:VEVENT
BEGIN:VTIMEZONE
TZID:Europe/Berlin
BEGIN:STANDARD
DTSTART:20260321T180000
TZNAME:CET
TZOFFSETTO:+0100
TZOFFSETFROM:+0100
END:STANDARD
END:VTIMEZONE
END:VCALENDAR
