BEGIN:VCALENDAR
PRODID:-//eluceo/ical//2.0/EN
VERSION:2.0
CALSCALE:GREGORIAN
BEGIN:VEVENT
UID:928fb2c1f79b7b96751c7f1002c2a28e
DTSTAMP:20260424T193907Z
SUMMARY:(im)prévu. Konstruktionen zwischen System und Abweichung
DESCRIPTION:(im)prévu | (un)vorhergesehen\nKonstruktionen zwischen System 
 und Abweichung\n\nCharles Bézie | Daniel Buren | Jean-François Dubreuil 
 | Vera Molnar | François Morellet | Aurélie Nemours | Yves Popet | Victo
 r Vasarely\n\nWie findet man ein Bild? Die Ausstellung zeigt französische
  Künstlerinnen und Künstler aus dem Herz der Sammlung Schroth und geht d
 abei der Frage nach Möglichkeiten der künstlerischen Konzeption nach. Vo
 n fest definierten Gestaltungselementen und systematischem Aufbau über fr
 eies Experiment bis hin zum Zufall nutzen diese Künstler*innen Methoden z
 wischen planvollem Ansatz und Offenheit für Unvorhergesehens\, die ein Fi
 nden ermöglichen\, das mehr als das Ergebnis einer Suche ist.\n\nSie habe
 n ihrem Schaffen einen Rahmen aus konsequenten Regeln der Bildgestaltung g
 egeben oder Systeme selbst zum Gegenstand ihrer Arbeiten erklärt. An die 
 Stelle der subjektiven\, intuitiven Komposition tritt bei ihnen die auf ei
 nfachen oder elaborierten Systemen basierte Konstruktion. Systematisch erf
 orschen sie die visuellen Konsequenzen etwa von Wiederholung\, Progression
 \, Drehung oder Überlagerung. Im planvollen Vorgehen heißen manche von i
 hnen aber auch Abweichung und Zufall willkommen. So integrierte François 
 Morellet den Zufall als Prinzip\, um die Idee von künstlerischer Komposit
 ion an sich außer Kraft zu setzen und zugleich so neue und autonome Eleme
 nte der Wirklichkeit zu schaffen\, dass sie zuvor nicht einmal in seiner V
 orstellung existierten. Die Werke Vera Molnars\, der Pionierin der compute
 rgenerierten Kunst\, leben von 99 % Ordnung – und einem Prozent Chaos.\n
 \nSinnliche Freude\, überraschender Humor und rationales Nachvollziehen v
 erbinden sich in dieser Ausstellung im RAUM SCHROTH zu einem umfassenden E
 rlebnis.
DTSTART:20260207T000000
DTEND:20260207T030000
LOCATION:RAUM SCHROTH\, Thomästraße 1\, 59494 Soest\, 
END:VEVENT
BEGIN:VTIMEZONE
TZID:Europe/Berlin
BEGIN:STANDARD
DTSTART:20260207T000000
TZNAME:CET
TZOFFSETTO:+0100
TZOFFSETFROM:+0100
END:STANDARD
END:VTIMEZONE
END:VCALENDAR
