BEGIN:VCALENDAR
PRODID:-//eluceo/ical//2.0/EN
VERSION:2.0
CALSCALE:GREGORIAN
BEGIN:VEVENT
UID:96a498436f1bba6c8ae2e71d00c93dd3
DTSTAMP:20260425T014847Z
SUMMARY:Sarah Dietz: "There's a Softness about the Night"
DESCRIPTION:Jede Linie\, die sie zeichnet\, ist eine Spur ihrer Gegenwart\,
  eine physische Darstellung ihrer Gedanken und Gefühle in diesem speziell
 en Moment. Gleichzeitig hat diese Vergänglichkeit etwas Zerbrechliches: L
 inien verblassen\, Papier verfärbt sich und die Vergänglichkeit der Zeit
  kommt immer ins Spiel. Ihre Zeichnungen werden so zu einer Suche nach ein
 er Bildsprache\, die das Gefühl von Zeit und Vergänglichkeit spürbar ma
 cht. In ihrer Arbeit mit Ornamenten erforscht sie die Spannung zwischen de
 m Festhalten an der Vergangenheit und dem unausweichlichen Loslassen von i
 hr. Für sie sind die Ornamente sowohl Träger der Schönheit als auch Sym
 bole des Verfalls\, die eine tiefere Bedeutung in ihrem Werk zum Ausdruck 
 bringen.
DTSTART:20260207T110000
DTEND:20260207T170000
LOCATION:Museum Wilhelm Morgner\, Thomästraße 1\, 59494 Soest\, 
END:VEVENT
BEGIN:VTIMEZONE
TZID:Europe/Berlin
BEGIN:STANDARD
DTSTART:20260207T110000
TZNAME:CET
TZOFFSETTO:+0100
TZOFFSETFROM:+0100
END:STANDARD
END:VTIMEZONE
END:VCALENDAR
