BEGIN:VCALENDAR
PRODID:-//eluceo/ical//2.0/EN
VERSION:2.0
CALSCALE:GREGORIAN
BEGIN:VEVENT
UID:46317487af84cb8bcb5c752d531b9faa
DTSTAMP:20260424T155052Z
SUMMARY:Chor Prosec(h)os
DESCRIPTION:
DTSTART:20260427T103000
DTEND:20260427T123000
LOCATION:KulturQuartier - Spiegelraum\, Ulrichertor 4\, 59494 Soest\, 
END:VEVENT
BEGIN:VTIMEZONE
TZID:Europe/Berlin
BEGIN:DAYLIGHT
DTSTART:20260427T103000
TZNAME:CEST
TZOFFSETTO:+0200
TZOFFSETFROM:+0200
END:DAYLIGHT
END:VTIMEZONE
END:VCALENDAR
