BEGIN:VCALENDAR
PRODID:-//eluceo/ical//2.0/EN
VERSION:2.0
CALSCALE:GREGORIAN
BEGIN:VEVENT
UID:a9409ed7655ba838412c56637f93176f
DTSTAMP:20260425T042505Z
SUMMARY:Schattenfiguren und Lichtgrau - Das Künstlerpaar Gisela und Herman
 n Bachmann
DESCRIPTION:Hermann Bachmann (1922–1995)\, in Halle an der Saale geboren\
 , wirkte in seiner Heimatstadt bis 1953 freischaffend. Hier lernte er die 
 Bildhauerin Gisela Ruffert (1925–2023) kennen\, die bis 1945 an der Kuns
 tschule Burg Giebichstein studierte. Nach anfänglichem Erfolg floh das K
 ünstlerpaar\, aufgrund der konträren Haltung Hermann Bachmanns\, nach We
 stberlin. Dort erweiterte er sein malerisches Œuvre und erfuhr damit nati
 onal sowie international Anerkennung. Gisela Bachmann stellte dagegen zugu
 nsten familiärer Verpflichtungen ihre bildhauerische Arbeit zeitweise zur
 ück. Ein künstlerischer Neuanfang gelang ihr in den späten 1970er Jahre
 n.
DTSTART:20260207T110000
DTEND:20260207T170000
LOCATION:Museum Wilhelm Morgner\, Thomästraße 1\, 59494 Soest\, 
END:VEVENT
BEGIN:VTIMEZONE
TZID:Europe/Berlin
BEGIN:STANDARD
DTSTART:20260207T110000
TZNAME:CET
TZOFFSETTO:+0100
TZOFFSETFROM:+0100
END:STANDARD
END:VTIMEZONE
END:VCALENDAR
